Workbook

Sheet Plan de Acción 2022
G1: SEGUIMIENTO AL PLAN DE ACCIÓN ANUAL - VIGENCIA 2022 | BL1: Código: | BM1: E-01-F-010
BL2: Versión: | BM2: 1
A3: ALINEACIÓN PLAN ESTRATÉGICO INSTITUCIONAL | E3: No. ÍTEM | F3: ACTIVIDAD | G3: PRODUCTO / ENTREGABLE | H3: PROGRAMACIÓN | T3: META ANUAL | U3: RESPONSABLE | V3: ÁREA(S) RESPONSABLE (S) | W3: FINANCIACIÓN (Funcionamiento y/o Proyecto de Inversión) | X3: AVANCE | AJ3: AVANCE ANUAL | AK3: % DE AVANCE | AL3: M1 | AM3: EJECUCIÓN | AN3: M2 | AO3: EJECUCIÓN | AP3: M3 | AQ3: EJECUCIÓN | AR3: M4 | AS3: EJECUCIÓN | AT3: M5 | AU3: EJECUCIÓN | AV3: M6 | AW3: EJECUCIÓN | AX3: M7 | AY3: EJECUCIÓN | AZ3: M8 | BA3: EJECUCIÓN | BB3: M9 | BC3: EJECUCIÓN | BD3: M10 | BE3: EJECUCIÓN | BF3: M11 | BG3: EJECUCIÓN | BH3: M12 | BI3: EJECUCIÓN | BK3: Revisión OAP | BL3: Página: | BM3: ver Pie de Página
A4: EJE HABILITADOR | B4: OBJETIVO ESTRATÉGICO | C4: INICIATIVA | D4: INDICADOR Y META ASOCIADO AL PEI | H4: M1 | I4: M2 | J4: M3 | K4: M4 | L4: M5 | M4: M6 | N4: M7 | O4: M8 | P4: M9 | Q4: M10 | R4: M11 | S4: M12 | X4: M1 | Y4: M2 | Z4: M3 | AA4: M4 | AB4: M5 | AC4: M6 | AD4: M7 | AE4: M8 | AF4: M9 | AG4: M10 | AH4: M11 | AI4: M12 | AL4: M1 | AM4: Descripción | AN4: M2 | AO4: Descripción | AP4: M3 | AQ4: Descripción | AR4: M4 | AS4: Descripción | AT4: M5 | AU4: Descripción | AV4: M6 | AW4: Descripción | AX4: M7 | AY4: Descripción | AZ4: M8 | BA4: Descripción | BB4: M9 | BC4: Descripción | BD4: M10 | BE4: Descripción | BF4: M11 | BG4: Descripción | BH4: M12 | BI4: Descripción
A5: A. Metrología, bien público para la competitividad | B5: A.1 Ampliar y consolidar a nivel nacional e internacional las capacidades metrológicas del INM y de los Institutos Designados (ID), para garantizar la comparabilidad de las mediciones realizadas en Colombia | C5: A.1.1 Lograr el posicionamiento en los grupos técnicos de trabajo a nivel internacional | D5: A. 1.1-1 Participación como laboratorio piloto en comparaciones claves o suplementarias organizadas por el Sistema Interamericano de Metrología (SIM) | E5: 1 | F5: Participar en comparaciones claves o suplementarias en metrología Física | G5: Circular T Soporte avance o protocolo de comparación o Inscripción comparación KCBD o Draft comparación o publicación final | I5: 1 | J5: 1 | K5: 1 | L5: 1 | M5: 1 | N5: 2 | O5: 3 | P5: 1 | Q5: 1 | R5: 3 | S5: 0 | T5: =SUM(H5:S5) -> 15 | U5: subdirector de metrologia fisica | V5: Subdirección de Metrología Física | W5: Funcionamiento | X5: =AL5 -> 0 | Y5: =AN5 -> 1 | Z5: =AP5 -> 1 | AA5: =AR5 -> 1 | AB5: =AT5 -> 1 | AC5: =AV5 -> 1 | AD5: =AX5 -> 2 | AE5: =AZ5 -> 2 | AF5: =BB5 -> 2 | AG5: =BD5 -> 1 | AH5: =BF5 -> 3 | AI5: =BH5 -> 1 | AJ5: =SUM(X5:AI5) -> 16 | AK5: =AJ5/T5 -> 1.0666667 | AN5: 1 | AO5: Se generó la "Circular T 409 expedida el 10 de febrero de 2022 la cual contiene los datos de medición a enero de 2022. Esta Circular es soporte de la comparación internacional que se realiza frente a la escala de tiempo de cada país emitida por un NMI con CMC publicadas en el KCDB del BIPM. Estos resultados son reportados por los laboratorios (k) de cada NMI que aportan sus mediciones para el establecimiento del Tiempo Universal Coordinado - UTC, esto por medio de un promedio ponderado de todos los relojes atómicos. Los resultados de la comparación internacional se reportan mensualmente en la "Circular T". | AP5: 1 | AQ5: Se generó la "Circular T 410 expedida el 11 de marzo de 2022 la cual contiene los datos de medición a febrero de 2022. Esta Circular es soporte de la comparación internacional que se realiza frente a la escala de tiempo de cada país emitida por un NMI con CMC publicadas en el KCDB del BIPM. Estos resultados son reportados por los laboratorios (k) de cada NMI que aportan sus mediciones para el establecimiento del Tiempo Universal Coordinado - UTC, esto por medio de un promedio ponderado de todos los relojes atómicos. Los resultados de la comparación internacional se reportan mensualmente en la "Circular T". | AR5: 1 | AS5: Se generó la "Circular T 411 expedida el 11 de abril de 2022 la cual contiene los datos de medición a marzo de 2022. Esta Circular es soporte de la comparación internacional que se realiza frente a la escala de tiempo de cada país emitida por un NMI con CMC publicadas en el KCDB del BIPM. Estos resultados son reportados por los laboratorios (k) de cada NMI que aportan sus mediciones para el establecimiento del Tiempo Universal Coordinado - UTC, esto por medio de un promedio ponderado de todos los relojes atómicos. Los resultados de la comparación internacional se reportan mensualmente en la "Circular T". | AT5: 1 | AU5: Se generó la "Circular T 412 expedida el 12 de Mayo de 2022 la cual contiene los datos de medición a abril de 2022. Esta Circular es soporte de la comparación internacional que se realiza frente a la escala de tiempo de cada país emitida por un NMI con CMC publicadas en el KCDB del BIPM. Estos resultados son reportados por los laboratorios (k) de cada NMI que aportan sus mediciones para el establecimiento del Tiempo Universal Coordinado - UTC, esto por medio de un promedio ponderado de todos los relojes atómicos. Los resultados de la comparación internacional se reportan mensualmente en la "Circular T". | AV5: 1 | AW5: Se generó la "Circular T 413 expedida el 13 de Junio de 2022 la cual contiene los datos de medición a mayo de 2022. Esta Circular es soporte de la comparación internacional que se realiza frente a la escala de tiempo de cada país emitida por un NMI con CMC publicadas en el KCDB del BIPM. Estos resultados son reportados por los laboratorios (k) de cada NMI que aportan sus mediciones para el establecimiento del Tiempo Universal Coordinado - UTC, esto por medio de un promedio ponderado de todos los relojes atómicos. Los resultados de la comparación internacional se reportan mensualmente en la "Circular T". | AX5: 2 | AY5: Se generó 2 comparaciones en metrología Física: 1. la "Circular T 414 expedida el 11 de Julio de 2022 la cual contiene los datos de medición a junio de 2022. Esta Circular es soporte de la comparación internacional que se realiza frente a la escala de tiempo de cada país emitida por un NMI con CMC publicadas en el KCDB del BIPM. Estos resultados son reportados por los laboratorios (k) de cada NMI que aportan sus mediciones para el establecimiento del Tiempo Universal Coordinado - UTC, esto por medio de un promedio ponderado de todos los relojes atómicos. Los resultados de la comparación internacional se reportan mensualmente en la "Circular T". 2. El laboratorio de masa participó en comparación "SIM KEY COMPARISON ON 50 kg STAINLESS STEEL MASS STANDARD SIM.M.M-K6 piloted by CENAM - MEXICO" donde se participo con los institutos de metrología del SIM Como soporte: Se remite DRAFT A2 sobre el cual se hizo comentarios | AZ5: 2 | BA5: Se generó 2 comparaciones en metrología Física: 1. la "Circular T 415 expedida el 11 de agosto de 2022 la cual contiene los datos de medición a julio de 2022. Esta Circular es soporte de la comparación internacional que se realiza frente a la escala de tiempo de cada país emitida por un NMI con CMC publicadas en el KCDB del BIPM. Estos resultados son reportados por los laboratorios (k) de cada NMI que aportan sus mediciones para el establecimiento del Tiempo Universal Coordinado - UTC, esto por medio de un promedio ponderado de todos los relojes atómicos. Los resultados de la comparación internacional se reportan mensualmente en la "Circular T". 2. El laboratorio de Densidad participó en comparación "COMPARISON OF THE CALIBRATIONS OF HYDROMETERS FOR LIQUID DENSITY DETERMINATION AMONG SIM LABORATORIES SIM.M.D-S6 piloted by CENAM - MEXICO" donde se participo con los institutos de metrología del SIM Como soporte: Se remite DRAFT B de la comparaciòn | BB5: 2 | BC5: Se generó 2 comparaciones en metrología Física: 1. la "Circular T 416 expedida el 9 de septiembre de 2022 la cual contiene los datos de medición a agosto de 2022. Esta Circular es soporte de la comparación internacional que se realiza frente a la escala de tiempo de cada país emitida por un NMI con CMC publicadas en el KCDB del BIPM. Estos resultados son reportados por los laboratorios (k) de cada NMI que aportan sus mediciones para el establecimiento del Tiempo Universal Coordinado - UTC, esto por medio de un promedio ponderado de todos los relojes atómicos. Los resultados de la comparación internacional se reportan mensualmente en la "Circular T". 2. El laboratorio de Temperatura y Humedad participó en comparación "comparison of the realisations of the ITS-90 over the range 234.315 6 K to 933.473 K. Entre el CEM de España y el INM de Colombia. El mismo genero sus resultados en informe final y publicado en la revista IOP Cience Como soporte: Se remite informe final y print pantalla de la publicación | BD5: 1 | BE5: Se generó 1 comparación en metrología Física: 1. la "Circular T 417 expedida el 11 de octubre de 2022 la cual contiene los datos de medición a agosto de 2022. Esta Circular es soporte de la comparación internacional que se realiza frente a la escala de tiempo de cada país emitida por un NMI con CMC publicadas en el KCDB del BIPM. Estos resultados son reportados por los laboratorios (k) de cada NMI que aportan sus mediciones para el establecimiento del Tiempo Universal Coordinado - UTC, esto por medio de un promedio ponderado de todos los relojes atómicos. Los resultados de la comparación internacional se reportan mensualmente en la "Circular T". | BF5: 3 | BG5: Se generó 3 comparaciones en metrología Física: 1. Comparación internacional que se realiza frente a la escala de tiempo de cada país emitida por un NMI con CMC publicadas en el KCDB del BIPM. como soporte esta la "Circular T 418 expedida el 10 de noviembre de 2022 la cual contiene los datos de medición a septiembre de 2022. Estos resultados son reportados por los laboratorios (k) de cada NMI que aportan sus mediciones para el establecimiento del Tiempo Universal Coordinado - UTC, esto por medio de un promedio ponderado de todos los relojes atómicos. Los resultados de la comparación internacional se reportan mensualmente en la "Circular T". 2. Se realizo las mediciones para la Comparación SIM.L-S-7 la cual fue para calibración de bloques de 0 mm a 100 mm en la que esta participando el laboratorio de Longitud Como soporte: Ficha de medición y Resultado de mediciones realizado como soporte de avance 3. Se realizo las mediciones para la Comparación SIM.L-S-8 la cual fue para calibración de bloques largos mayores a 100 mm a 500 mm en la mm en la que esta participando el laboratorio de Longitud. Estos resultados fueron entregados en el mes de septiembre Como soporte: Ficha de medición y Resultado de mediciones realizado como soporte de avance | BH5: 1 | BI5: Se generó 1 comparación en metrología Física: 1. la "Circular T 419 expedida el 9 de diciembre de 2022 la cual contiene los datos de medición a noviembre de 2022. Esta Circular es soporte de la comparación internacional que se realiza frente a la escala de tiempo de cada país emitida por un NMI con CMC publicadas en el KCDB del BIPM. Estos resultados son reportados por los laboratorios (k) de cada NMI que aportan sus mediciones para el establecimiento del Tiempo Universal Coordinado - UTC, esto por medio de un promedio ponderado de todos los relojes atómicos. Los resultados de la comparación internacional se reportan mensualmente en la "Circular T". | BK5: O.K.
E6: 2 | F6: Participar en reunión de representantes de países miembros de BIPM | G6: Soporte de la reunión | R6: 1 | T6: =SUM(H6:S6) -> 1 | U6: Director | V6: Dirección General | W6: Funcionamiento | X6: =AL6 -> 0 | Y6: =AN6 -> 0 | Z6: =AP6 -> 0 | AA6: =AR6 -> 0 | AB6: =AT6 -> 0 | AC6: =AV6 -> 0 | AD6: =AX6 -> 0 | AE6: =AZ6 -> 0 | AF6: =BB6 -> 0 | AG6: =BD6 -> 0 | AH6: =BF6 -> 1 | AI6: =BH6 -> 0 | AJ6: =SUM(X6:AI6) -> 1 | AK6: =AJ6/T6 -> 1 | BF6: 1 | BG6: Se reporta Soporte de la reunión | BK6: O.K.
E7: 3 | F7: Participar en comparaciones claves, suplementarias o bilaterales | G7: Informe de resultados | M7: 2 | N7: 2 | Q7: 1 | T7: =SUM(H7:S7) -> 5 | U7: Subdirector SMQB | V7: Subdirección de Metrología Química y Biología | W7: Metrology for safe food and feed mycotoxins Plan de trabajo Mesas MINCIT cafeteros - plaguicidas Proyecto PTB-Hg Plan de fortalecimiento Proyecto de inversión SMQB | X7: =AL7 -> 0 | Y7: =AN7 -> 0 | Z7: =AP7 -> 0 | AA7: =AR7 -> 0 | AB7: =AT7 -> 0 | AC7: =AV7 -> 2 | AD7: =AX7 -> 2 | AE7: =AZ7 -> 0 | AF7: =BB7 -> 0 | AG7: =BD7 -> 1 | AH7: =BF7 -> 0 | AI7: =BH7 -> 0 | AJ7: =SUM(X7:AI7) -> 5 | AK7: =AJ7/T7 -> 1 | AV7: 2 | AW7: Se entregaron 2 informes de resultados, uno para la comparación CCQM_K19 y otra de la comparación suplementaria de trasnmitancia regular | AX7: 2 | AY7: Se entregaron 2 informes de resultados, uno para la comparación SIM.QM-S11&P25 Hierba Mate y otra de la comparación APMP.QM-S19 toxic elements in seafood | BD7: 1 | BE7: Se elaboró 3.5 Informe de resultados de comparación CCQM-K154d | BK7: O.K.
E8: 4 | F8: Fortalecer las herramientas estadísticas que utilizan los laboratorios del INM que participen en comparaciones claves o suplementarias organizadas por el SIM o que busquen fortalecer sus actividades de aseguramiento de la validez de los resultados. | G8: * Matriz Excel con el reporte de las horas prestadas (M4, M8, M12) | K8: 1 | O8: 1 | S8: 1 | T8: =SUM(H8:S8) -> 3 | U8: Katherin Holguin Agudelo | V8: Subdirección de Servicios Metrológicos y Relación con el Ciudadano | W8: Funcionamiento | X8: =AL8 -> 0 | Y8: =AN8 -> 0 | Z8: =AP8 -> 0 | AA8: =AR8 -> 1 | AB8: =AT8 -> 0 | AC8: =AV8 -> 0 | AD8: =AX8 -> 0 | AE8: =AZ8 -> 1 | AF8: =BB8 -> 0 | AG8: =BD8 -> 0 | AH8: =BF8 -> 0 | AI8: =BH8 -> 1 | AJ8: =SUM(X8:AI8) -> 3 | AK8: =AJ8/T8 -> 1 | AR8: 1 | AS8: Se realiza entrega de la matriz de excel con el reporte de las horas prestadas | AZ8: 1 | BA8: Se adjunta matriz Excel con el reporte de las horas prestadas | BH8: 1 | BI8: Se entrega la Matriz Excel con el reporte de las horas prestadas a cierre de la vigencia. | BK8: O.K.
E9: 5 | F9: Presentar una propuesta para mejorar la gestión estadística en el INM, con estándares de calidad | G9: Instructivo para la generacion de un diccionario de datos de las bases de datos. | S9: 1 | T9: =SUM(H9:S9) -> 1 | U9: Katherin Holguin Agudelo | V9: Subdirección de Servicios Metrológicos y Relación con el Ciudadano | W9: Funcionamiento | X9: =AL9 -> 0 | Y9: =AN9 -> 0 | Z9: =AP9 -> 0 | AA9: =AR9 -> 0 | AB9: =AT9 -> 0 | AC9: =AV9 -> 0 | AD9: =AX9 -> 0 | AE9: =AZ9 -> 0 | AF9: =BB9 -> 0 | AG9: =BD9 -> 0 | AH9: =BF9 -> 0 | AI9: =BH9 -> 1 | AJ9: =SUM(X9:AI9) -> 1 | AK9: =AJ9/T9 -> 1 | BH9: 1 | BI9: Se realiza entrega del Instructivo para la generación de un diccionario de datos de las bases de datos. | BK9: O.K.
D10: A 1.1-2 Participaciones en Comités Consultivos, Subcomités, Grupos de Trabajo y en la Asamblea General de la Oficina Internacional de Pesas y Medidas (BIPM, por sus siglas en francés) | E10: 6 | F10: Participar en reuniones comités consultivos, subcomités, grupos de trabajo y/o en la conferencia general del BIPM | G10: Reporte de asistencia | M10: 7 | N10: 1 | T10: =SUM(H10:S10) -> 8 | U10: Subdirector SMQB | V10: Subdirección de Metrología Química y Biología | W10: Proyecto de inversión SMQB | X10: =AL10 -> 0 | Y10: =AN10 -> 0 | Z10: =AP10 -> 0 | AA10: =AR10 -> 0 | AB10: =AT10 -> 0 | AC10: =AV10 -> 3 | AD10: =AX10 -> 5 | AE10: =AZ10 -> 0 | AF10: =BB10 -> 0 | AG10: =BD10 -> 0 | AH10: =BF10 -> 0 | AI10: =BH10 -> 0 | AJ10: =SUM(X10:AI10) -> 8 | AK10: =AJ10/T10 -> 1 | AV10: 3 | AW10: Se reportó la participación a 3 reuniones, una al IAWG, la segunda al IRWG y la ultima al EAWG | AX10: 5 | AY10: Se reportó la participación a 5 reuniones, una al OAWG, una CAWG, una al PAWG, una al NAWG y la ultima al SAWG | BK10: En M7 no se evidencian los soportes para PAWG, NAWG y CAWG
E11: 7 | F11: Realizar seguimiento del estado de la publicación de CMC | G11: Acta de Revisión por la Dirección | S11: 1 | T11: =SUM(H11:S11) -> 1 | U11: Milena Rodríguez | V11: Oficina Asesora de Planeación | W11: Funcionamiento | X11: =AL11 -> 1 | Y11: =AN11 -> 0 | Z11: =AP11 -> 0 | AA11: =AR11 -> 0 | AB11: =AT11 -> 0 | AC11: =AV11 -> 0 | AD11: =AX11 -> 0 | AE11: =AZ11 -> 0 | AF11: =BB11 -> 0 | AG11: =BD11 -> 0 | AH11: =BF11 -> 0 | AI11: =BH11 -> 1 | AJ11: =SUM(X11:AI11) -> 2 | AK11: =AJ11/T11 -> 2 | AL11: 1 | AM11: Realizacion del Acta de Revision por la Dirección de la vigencia 2021 | BH11: 1 | BI11: Acta de Revisión por la Dirección (borrador) | BK11: En M1 no se evidencia el soporte
E12: 8 | F12: Representar al INM ante el QSTF del Sistema Interamericano de Metrología | G12: Acta de reunión o informe de comisión | N12: 2 | T12: =SUM(H12:S12) -> 2 | U12: Carlos Andrés Quevedo. | V12: Dirección General | W12: Funcionamiento | X12: =AL12 -> 3 | Y12: =AN12 -> 0 | Z12: =AP12 -> 0 | AA12: =AR12 -> 0 | AB12: =AT12 -> 0 | AC12: =AV12 -> 0 | AD12: =AX12 -> 1 | AE12: =AZ12 -> 0 | AF12: =BB12 -> 0 | AG12: =BD12 -> 0 | AH12: =BF12 -> 0 | AI12: =BH12 -> 0 | AJ12: =SUM(X12:AI12) -> 4 | AK12: =AJ12/T12 -> 2 | AL12: 3 | AM12: Para este mes se están preparando los cronogramas de presentación en la modalidad presencial para el Grupo de Trabajo QSTF del Sistema Interamericano de Metrología- SIM Avance en gestión: En sesiones de trabajo del mes de enero se terminaron de presentar Sistemas de Gestión que venían atrasados de la vigencia 2021 como lo son: • 2022-01-13 QSTF - CENAM QS Review (Electrical Power and Energy) • 2022-01-19 QSTF - CENAMEP AIP QS Review (Temperature/Humidity, Force, and Large Scales) • 2022-01-20 QSTF - INACAL QS Review (Electrochemistry and Gas Flow) Observaciones: Se asiste como miembro pleno del QTF en los temas de evaluación y votación acerca de los Sistemas de Gestión de los INM /ID que están en sometimiento a declaración de CMC Soportes: Actas de las reuniones del mes de enero 1)Minutes_CENAM-ElectricalPowerandEnergy_13Jan2022V3 2) Minutes_CENAMEPAIP_19Jan2022 3) Minutes_INACAL_20Jan2022 | AO12: Para la presentación del QSTF el Secretario del Grupo de Calidad del QSTF, nos informa que este se ha pospuesto para la primera semana del mes de mayo, mediante correo electrónico del 2020-02-24. En este momento el Grupo de EA, se encuentra realizando el seguimiento a las acciones y la elaboración de los documentos. | AX12: 1 | AY12: esta actividad se completó en enero de 2022. Se presentará nuevos avances en M10 | BK12: O.K
D13: A 1.1-3 Participaciones en Grupos de Trabajo Técnico Regional, Grupo de Trabajo de los Sistemas de Calidad (QSTF por sus siglas en ingles) y Asamblea del Sistema Interamericano de Metrología (SIM) | E13: 9 | F13: Participar en Grupos de Trabajo Técnico Regional, Grupo de Trabajo de los Sistemas de Calidad (QSTF por sus siglas en ingles) y Asamblea del Sistema Interamericano de Metrología (SIM) | G13: Reporte de asistencia (evidencia la participación) | R13: 1 | T13: =SUM(H13:S13) -> 1 | U13: Subdirector SMQB | V13: Subdirección de Metrología Química y Biología | W13: Proyecto de inversión SMQB | X13: =AL13 -> 0 | Y13: =AN13 -> 0 | Z13: =AP13 -> 0 | AA13: =AR13 -> 0 | AB13: =AT13 -> 0 | AC13: =AV13 -> 0 | AD13: =AX13 -> 0 | AE13: =AZ13 -> 0 | AF13: =BB13 -> 0 | AG13: =BD13 -> 0 | AH13: =BF13 -> 1 | AI13: =BH13 -> 0 | AJ13: =SUM(X13:AI13) -> 1 | AK13: =AJ13/T13 -> 1 | BF13: 1 | BG13: Participación en Workshop del grupo PRWG | BK13: O.K
E14: 10 | F14: Participar en la reunión del Asamblea del SIM | G14: Acta de reunión | R14: 1 | T14: =SUM(H14:S14) -> 1 | U14: Director | V14: Dirección General | W14: Funcionamiento | X14: =AL14 -> 0 | Y14: =AN14 -> 0 | Z14: =AP14 -> 0 | AA14: =AR14 -> 0 | AB14: =AT14 -> 0 | AC14: =AV14 -> 0 | AD14: =AX14 -> 0 | AE14: =AZ14 -> 0 | AF14: =BB14 -> 0 | AG14: =BD14 -> 0 | AH14: =BF14 -> 1 | AI14: =BH14 -> 0 | AJ14: =SUM(X14:AI14) -> 1 | AK14: =AJ14/T14 -> 1 | BF14: 1 | BG14: Se adjunta correo que demuestra la asistencia a la asamblea del SIM , ya que todavia no han enviado el acta, en espera. | BK14: O.K
E15: 11 | F15: Planificar un evento a nivel SIM para tratar temas de fortalezas o dificultades en ensayos de aptitud y estudios colaborativos. | G15: * Documento que contenga la propuesta del evento a nivel SIM (M11) | R15: 1 | T15: =SUM(H15:S15) -> 1 | U15: Katherin Holguin Agudelo | V15: Subdirección de Servicios Metrológicos y Relación con el Ciudadano | W15: Funcionamiento | X15: =AL15 -> 0 | Y15: =AN15 -> 0 | Z15: =AP15 -> 0 | AA15: =AR15 -> 0 | AB15: =AT15 -> 0 | AC15: =AV15 -> 0 | AD15: =AX15 -> 0 | AE15: =AZ15 -> 0 | AF15: =BB15 -> 1 | AG15: =BD15 -> 0 | AH15: =BF15 -> 1 | AI15: =BH15 -> 0 | AJ15: =SUM(X15:AI15) -> 2 | AK15: =AJ15/T15 -> 2 | BB15: 1 | BC15: Se emtrega el Documento que contenga la propuesta del evento a nivel SIM y se anexa correo del experto Possolo donde se evidencia la respuesta realizada acorde a consultas relacionadas al evento. | BF15: 1 | BG15: Se entrega el docuento con la propuesta del evento a nivel SIM | BK15: O.K
E16: 12 | F16: Participar en reuniones de Grupos de Trabajo, subcomités y/o Comités Consultivos ante el BIPM o el SIM | G16: Evidencia de participación | J16: 2 | N16: 1 | S16: 1 | T16: =SUM(H16:S16) -> 4 | U16: subdirector de metrologia fisica | V16: Subdirección de Metrología Física | W16: Funcionamiento | X16: =AL16 -> 0 | Y16: =AN16 -> 0 | Z16: =AP16 -> 3 | AA16: =AR16 -> 0 | AB16: =AT16 -> 0 | AC16: =AV16 -> 0 | AD16: =AX16 -> 1 | AE16: =AZ16 -> 0 | AF16: =BB16 -> 0 | AG16: =BD16 -> 0 | AH16: =BF16 -> 0 | AI16: =BH16 -> 0 | AJ16: =SUM(X16:AI16) -> 4 | AK16: =AJ16/T16 -> 1 | AP16: 3 | AQ16: Los laboratorio de metrología Física han Participado en x reuniones de Grupos de Trabajo, subcomités y/o Comités Consultivos ante el BIPM o el SIM, correspondientes a: 1. El día 2022-02-15 se participó de manera activa en la reunión del grupo de trabajo número 3 del SIM (MWG3): Alli se trato proximas comparaciones internacionales a realizar. Como soporte: Correo de la reunion 2. Se llevo a cabo evento "Workshop KCDB 2.0 al servicio de la Región SIM en Masa y Cantidades Relacionadas", el evento se celebró del 22 al 26 de marzo. Como soporte: Programa del evento y correo 3. Se llevo a cabo evento "SIM MWG7" el 28 de febrero de 2022 donde se trato las comapraciones a realizar y las evaluaciones par. Como soporte: Acta de reunión | AX16: 1 | AY16: Los laboratorio de metrología Física han Participado en 1 reuniones de Grupos de Trabajo, subcomités y/o Comités Consultivos ante el BIPM o el SIM, correspondientes a: 1. El laboratorio de Tiempo y Frecuencia del INM participó en la reunión del Grupo de Trabajo de Tiempo y Frecuencia del SIM: "SIM TFMWG Virtual Workshop and Planning Meeting", evento virtual que se realizó los días 23 y 24 de mayo de 2022. Como soporte: publicación de la página web del Grupo de Trabajo | BK16: O.K
C17: A.1.2 Obtener y mantener el reconocimiento de Capacidades de Medición y Calibración (CMC) | D17: A 1.2-1 Capacidades de Medición y Calibración (CMC) nuevas reconocidas por la Oficina Internacional de Pesas y Medidas (BIPM) | E17: 13 | F17: Realizar actividades que permitan la presentación y aprobación de CMC nuevas o renovadas en metrología física | G17: Soporte de avance o publicación de CMC | R17: 1 | T17: =SUM(H17:S17) -> 1 | U17: Subdirector SMF | V17: Subdirección de Metrología Física | W17: Funcionamiento | X17: =AL17 -> 0 | Y17: =AN17 -> 0 | Z17: =AP17 -> 0 | AA17: =AR17 -> 1 | AB17: =AT17 -> 0 | AC17: =AV17 -> 1 | AD17: =AX17 -> 0 | AE17: =AZ17 -> 0 | AF17: =BB17 -> 0 | AG17: =BD17 -> 0 | AH17: =BF17 -> 0 | AI17: =BH17 -> 0 | AJ17: =SUM(X17:AI17) -> 2 | AK17: =AJ17/T17 -> 2 | AR17: 1 | AS17: Se obtuvo 34 (treinta y cuatro) líneas de Capacidades de Medición y Calibración – CMC en Corriente continua y alterna para dispositivos de electricidad y magnetismo en diferentes rangos de medición. Las mismas fueron publicadas el 07 de febrero de 2022 en la página del Key Comparison Data Base KCDB de la Oficina Internacional de Pesas y Medidas BIPM. Con estas CMC Como soporte: Reporte lienas de CMC publicadas | AV17: 1 | AW17: Se obtuvo 2 (líneas) Capacidades de Medición y Calibración – CMC en Fuerza. Las mismas fueron publicadas el 5 de marzo de 2022 en la página del Key Comparison Data Base KCDB de la Oficina Internacional de Pesas y Medidas BIPM. Con estas CMC, se cuenta con reconocimiento internacional de las calibraciones realizadas en Fuerza, siendo válidas en todo el mundo. Como soporte: Reporte lienas de CMC publicadas | BF17: 0 | BG17: Esta actividad tuvo cumplimiento para M4 con las 34 lineas publicadas de Corriente Continia y alrterna obteniendo CMC nuevas en el laboratorio de CCyCA y M6 con la obtención de 2 lineas nuevas en Fuerza obteniendo CMC nuevas en el laboratorio de Fuerza | BK17: O.K
E18: 14 | F18: Reportar el avance de las Capacidades de Medición y Calibración (CMC) nuevas reconocidas por la Oficina Internacional de Pesas y Medidas (BIPM) | G18: Publicación de las CMC reconocidas | K18: 34 | T18: =SUM(H18:S18) -> 34 | U18: Milena Rodríguez | V18: Oficina Asesora de Planeación | X18: =AL18 -> 0 | Y18: =AN18 -> 0 | Z18: =AP18 -> 0 | AA18: =AR18 -> 34 | AB18: =AT18 -> 0 | AC18: =AV18 -> 0 | AD18: =AX18 -> 0 | AE18: =AZ18 -> 0 | AF18: =BB18 -> 0 | AG18: =BD18 -> 0 | AH18: =BF18 -> 0 | AI18: =BH18 -> 0 | AJ18: =SUM(X18:AI18) -> 34 | AK18: =AJ18/T18 -> 1 | AR18: 34 | AS18: Se obtuvo 34 (treinta y cuatro) líneas de Capacidades de Medición y Calibración – CMC en Corriente continua y alterna para dispositivos de electricidad y magnetismo en diferentes rangos de medición. Las mismas fueron publicadas el 07 de febrero de 2022 en la página del Key Comparison Data Base KCDB de la Oficina Internacional de Pesas y Medidas BIPM. Con estas CMC Como soporte: Reporte lienas de CMC publicadas | BK18: O.K
D19: A 1.2-2 Aprobaciones del Sistema de Gestión de la Calidad ante el QSTF, del Sistema Interamericano de Medición (SIM), para soportar las Capacidades de Medición y Calibración (CMC) | E19: 15 | F19: Presentar documentos para la evaluación del QSTF | G19: Soporte documentación presentada | R19: 1 | T19: =SUM(H19:S19) -> 1 | U19: David Alonso Plazas | V19: Subdirección de Metrología Física | W19: Funcionamiento | X19: =AL19 -> 0 | Y19: =AN19 -> 0 | Z19: =AP19 -> 0 | AA19: =AR19 -> 0 | AB19: =AT19 -> 0 | AC19: =AV19 -> 0 | AD19: =AX19 -> 0 | AE19: =AZ19 -> 0 | AF19: =BB19 -> 0 | AG19: =BD19 -> 0 | AH19: =BF19 -> 1 | AI19: =BH19 -> 0 | AJ19: =SUM(X19:AI19) -> 1 | AK19: =AJ19/T19 -> 1 | BF19: 1 | BG19: Se presento los documentos para la evalución del QSTF para la renovación de las Capacidades de Medición y Calibración - CMC del laboratorio de Longitud Como soporte: correo donde la Quality Manager del INM (Nubia Rodriguez) informa al secretario del QSTF: Andrew Conn y a la Presidenta del QSTF: Sally Bruce, el cargue en la plataforma del QSTF, de los documentos para la presentación de cinco años del laboratorio de Longitud del INM ante el QSTF, con copia al Director del INM, al Subdirector de la SMF y al Jefe de la OAP. | BK19: O.K
E20: 16 | F20: Reportar las aprobaciones del Sistema de Gestión de la Calidad ante el QSTF, del Sistema Interamericano de Medición (SIM), para soportar las Capacidades de Medición y Calibración (CMC) | G20: Certificado de aprobación | M20: 1 | S20: 1 | T20: =SUM(H20:S20) -> 2 | U20: Milena Rodríguez | V20: Oficina Asesora de Planeación | X20: =AL20 -> 0 | Y20: =AN20 -> 0 | Z20: =AP20 -> 0 | AA20: =AR20 -> 0 | AB20: =AT20 -> 0 | AC20: =AV20 -> 1 | AD20: =AX20 -> 0 | AE20: =AZ20 -> 0 | AF20: =BB20 -> 0 | AG20: =BD20 -> 0 | AH20: =BF20 -> 0 | AI20: =BH20 -> 1 | AJ20: =SUM(X20:AI20) -> 2 | AK20: =AJ20/T20 -> 1 | AV20: 1 | AW20: Se realizó el 8 de junio de 2022 la presentación del Sistema de Gestión de Ensayos de Aptitud en Química para agua dulce del INM 1) Certificado de aprobación del Sistema de Gestión de Ensayos de Aptitud en Química para agua dulce 2)Presentación del Sistema de Gestión de Ensayos de Aptitud en Química para agua dulce | BH20: 1 | BI20: Certificado de aprobación | BK20: En M6 no se evidencia el soporte relacionado con la Presentación del Sistema de Gestión de Ensayos de Aptitud en Química para agua dulce
E21: 17 | F21: Realizar evaluaciónes Pares en metrología Física | G21: Informe de evaluación par y/o informe preliminar de hallazgos | Q21: 1 | S21: 2 | T21: =SUM(H21:S21) -> 3 | U21: subdirector de metrologia fisica | V21: Subdirección de Metrología Física | W21: Funcionamiento | X21: =AL21 -> 0 | Y21: =AN21 -> 0 | Z21: =AP21 -> 0 | AA21: =AR21 -> 0 | AB21: =AT21 -> 0 | AC21: =AV21 -> 0 | AD21: =AX21 -> 0 | AE21: =AZ21 -> 0 | AF21: =BB21 -> 0 | AG21: =BD21 -> 1 | AH21: =BF21 -> 0 | AI21: =BH21 -> 3 | AJ21: =SUM(X21:AI21) -> 4 | AK21: =AJ21/T21 -> 1.3333333 | BD21: 1 | BE21: El laboratorio de Tiempo y Frecuencia tuvo una evaluación Par del 3 al 7 de octubre de 2022 realizada por el experto técnico del INTI de Argentina. Como soporte: Se adjunta informe final de evaluación Par. | BH21: 3 | BI21: 3 laboratorio de metrología fisica recibieron evaluaciones por pares correspondientes a: - Temperatura y Humedad realizado por el experto técnico del NIST de EE.UU - Presión realizado por el experto técnico del LNE de Francia - Par Torsional realizado por el experto técnico de INMETRO de Brasil. Como soporte: Se adjunta informe final de las evaluaciones Pares. | BK21: O.K
E22: 18 | F22: Gestionar la calibración de equipos del INM en el exterior para aseguramiento de la trazabilidad | G22: Resolución Reporte avance y estado trazabilidad | O22: 3 | S22: 1 | T22: =SUM(H22:S22) -> 4 | U22: Subdirector de Metrología Física | V22: Subdirección de Metrología Física | W22: Funcionamiento | X22: =AL22 -> 0 | Y22: =AN22 -> 0 | Z22: =AP22 -> 0 | AA22: =AR22 -> 0 | AB22: =AT22 -> 0 | AC22: =AV22 -> 0 | AD22: =AX22 -> 0 | AE22: =AZ22 -> 7 | AF22: =BB22 -> 0 | AG22: =BD22 -> 0 | AH22: =BF22 -> 0 | AI22: =BH22 -> 1 | AJ22: =SUM(X22:AI22) -> 8 | AK22: =AJ22/T22 -> 2 | AZ22: 7 | BA22: Se han desarrollado 7 resoluciones para el envio de 31 equipos de los laboratorios de la SMF a calibrar en Institutos de Metrología del mundo con el fin de obtener el aseguramiento metrológico de las mediciones, estos corresponden a: - Resolución 197 de calibración de 2 equipos del laboratorio de Corriente Continua en el METAS de Suiza - Resolución 355 de calibración de 7 equipos del laboratorio de Par Torsional en el PTB de Alemania - Resolución 180 para realizar de calibración de 2 equipos del laboratorio de temperatura y humedad en el PTB de Alemania - Resolución 182 para realizar de calibración de 6 equipos del laboratorio de Masa en el PTB de Alemania - Resolución 163 para realizar de calibración de 2 equipos del laboratorio de longitud en el CENAM de Mexico - Resolución 181 para realizar de calibración de 2 equipos del laboratorio de Presión y Vacío en el LNE de Francia - Resolución 200 para realizar de calibración de 9 equipos del laboratorio de Fuerza en el PTB de Alemania Como soporte: Se remite resoluciones generadas | BH22: 1 | BI22: Se desarrollo el Reporte avance y estado trazabilidad de los equipos de los laboratorios de la SMF | BK22: O.K
E23: 19 | F23: Analizar los informes de las auditorias Internas | G23: Planes de mejoramiento | O23: 1 | S23: 2 | T23: =SUM(H23:S23) -> 3 | U23: Subdirector SMQB | V23: Subdirección de Metrología Química y Biología | W23: Proyecto de inversión SMQB | X23: =AL23 -> 0 | Y23: =AN23 -> 0 | Z23: =AP23 -> 0 | AA23: =AR23 -> 0 | AB23: =AT23 -> 0 | AC23: =AV23 -> 0 | AD23: =AX23 -> 0 | AE23: =AZ23 -> 0 | AF23: =BB23 -> 0 | AG23: =BD23 -> 0 | AH23: =BF23 -> 0 | AI23: =BH23 -> 4 | AJ23: =SUM(X23:AI23) -> 4 | AK23: =AJ23/T23 -> 1.3333333 | AZ23: 0 | BA23: No se reporta el plan de mejoramiento, debido a que el informe final de la auditoria fue entregado la semana pasada, y este es el insumo principal para la elaboración del soporte de esta actividad. | BB23: 0 | BC23: No se reporta el plan de mejoramiento, debido a que el informe final de la auditoria fue entregado la semana pasada, y este es el insumo principal para la elaboración del soporte de esta actividad. | BD23: 0 | BE23: No se reporta el plan de mejoramiento, debido a que el informe final de la auditoria fue entregado la semana pasada, y este es el insumo principal para la elaboración del soporte de esta actividad. | BH23: 4 | BI23: Se entregaron 4 planes de mejoramiento, envio email con dos | BK23: O.K
E24: 20 | F24: Realizar revisiones por pares en química | G24: Planes de mejoramiento | S24: 2 | T24: =SUM(H24:S24) -> 2 | U24: Subdirector SMQB | V24: Subdirección de Metrología Química y Biología | W24: Proyecto de inversión SMQB | X24: =AL24 -> 0 | Y24: =AN24 -> 0 | Z24: =AP24 -> 0 | AA24: =AR24 -> 0 | AB24: =AT24 -> 0 | AC24: =AV24 -> 0 | AD24: =AX24 -> 0 | AE24: =AZ24 -> 0 | AF24: =BB24 -> 0 | AG24: =BD24 -> 0 | AH24: =BF24 -> 0 | AI24: =BH24 -> 1 | AJ24: =SUM(X24:AI24) -> 1 | AK24: =AJ24/T24 -> 0.5 | BH24: 1 | BI24: Se entregó un plan de mejoramiento | BK24: O.K
E25: 21 | F25: Atender evaluaciones pares para el SIG en la norma, 17025 y 17034 | G25: Informe de la evaluación par al SIG (dos requisitos un solo informe) | S25: 1 | T25: =SUM(H25:S25) -> 1 | U25: Milena Rodríguez | V25: Oficina Asesora de Planeación | W25: Funcionamiento | X25: =AL25 -> 0 | Y25: =AN25 -> 0 | Z25: =AP25 -> 0 | AA25: =AR25 -> 0 | AB25: =AT25 -> 0 | AC25: =AV25 -> 0 | AD25: =AX25 -> 0 | AE25: =AZ25 -> 0 | AF25: =BB25 -> 0 | AG25: =BD25 -> 0 | AH25: =BF25 -> 0 | AI25: =BH25 -> 1 | AJ25: =SUM(X25:AI25) -> 1 | AK25: =AJ25/T25 -> 1 | BH25: 1 | BI25: Informe de la evaluación par al SIG (dos requisitos un solo informe) | BK25: O.K
E26: 22 | F26: Formular el Programa de Auditorías del Sistema Integrado de Gestión | G26: Programa aprobado por Comité Institucional de Coordinación de Control Interno | J26: 1 | T26: =SUM(H26:S26) -> 1 | U26: Milena Rodríguez | V26: Oficina Asesora de Planeación | W26: Funcionamiento | X26: =AL26 -> 0 | Y26: =AN26 -> 0 | Z26: =AP26 -> 1 | AA26: =AR26 -> 0 | AB26: =AT26 -> 0 | AC26: =AV26 -> 0 | AD26: =AX26 -> 0 | AE26: =AZ26 -> 0 | AF26: =BB26 -> 0 | AG26: =BD26 -> 0 | AH26: =BF26 -> 0 | AI26: =BH26 -> 0 | AJ26: =SUM(X26:AI26) -> 1 | AK26: =AJ26/T26 -> 1 | AO26: Se remite la presentación del Comité Institucional de Coordinación de Control Interno #2 donde se sometió a aprobación el Programa de Auditorías del Sistema Integrado de Gestión. | AP26: 1 | AQ26: El mes pasado se remitió la presentación del Comité Institucional de Coordinación de Control Interno #2 donde se sometió a aprobación el Programa de Auditorías del Sistema Integrado de Gestión. | BK26: O.K
C27: A.1.3 Lograr la designación de institutos en magnitudes complementarias a las del INM | D27: A 1.3-1 Organizaciones delegadas como "Instituto Designado" en magnitudes complementarias a las del INM | E27: 23 | F27: Aprobación de los documentos requeridos en el SIG para el trámite de designación de Institutos. | G27: * Informe consulta pública a la Resolución (M4) * Documento de lineamentos (M6) * Resolución de aprobación DAFP (M6) * Procedimiento de designación de institutos (M6) * Formatos de solicitud y evaluación técnica (M6) * Ficha SUIT aprobada (M6) * Procedimiento de seguimiento e Instructivo de evaluación (M6) * Formatos de seguimiento a requisitos técnicos y seguimiento a convenio (M12) | K27: 1 | M27: 6 | S27: 1 | T27: =SUM(H27:S27) -> 8 | U27: Claudia Angélica Guillen | V27: Subdirección de Servicios Metrológicos y Relación con el Ciudadano | W27: Funcionamiento | X27: =AL27 -> 0 | Y27: =AN27 -> 1 | Z27: =AP27 -> 0 | AA27: =AR27 -> 1 | AB27: =AT27 -> 0 | AC27: =AV27 -> 6 | AD27: =AX27 -> 0 | AE27: =AZ27 -> 0 | AF27: =BB27 -> 0 | AG27: =BD27 -> 0 | AH27: =BF27 -> 0 | AI27: =BH27 -> 0 | AJ27: =SUM(X27:AI27) -> 8 | AK27: =AJ27/T27 -> 1 | AN27: 1 | AO27: Se entregan evidencas que dan soporte al producto "2. Documento de lineamento" -Acto administrativo moificatorio del trámite -Correo del texto final resolución modificatoria Institutos Designados - Respuesta comentarios-resolución modificatoria ID | AP27: 0 | AQ27: La solicitud al DAFP para la aprobación del trámite fue remitida el 14 de marzo y se encuentra en la etapa de revisión por parte de gestión jurídica para emitir concepto y remitir resultados al INM. Se adjuntan correos de envío del INM y confirmación de recibido del DAFP. Con base en el concepto del DAFP,se tendrán insumos para dar soporte al procedimiento de designación de institutos. Se entregan dos (2) correos de evidenccia de las gestiones realizadas. 1. Correo INM - Solicitud concepto favorable modificación Resolucion 211 de 2021 Correo INM- Solicitud concepto favorable modRes 211 de 2021-recibido DAFP Nota: Es importante tener en cuenta que de acuerdo a la jornada de planificación estratégica donde se realizarón ajustes al Plan de Acción (tablero estratégico) el presente entregable se cambio del M3 al M4; es decir que el entregable quedaría para el mes de abril. | AR27: 1 | AS27: Se realiza entregan los documentos acordes a la actividad “Aprobación de los documentos requeridos en el SIG para el trámite de designación de Institutos”. 1. 23.6 Documento de lineamentos 2. 23.6 Resolución de aprobación DAFP 3. 23.6 Procedimiento de designación de institutos 4. 23.6 Formato de solicitud y 4. 23.6 Formato evaluación técnica 5. 23.6 Ficha SUIT aprobada - Correo INM trámite ID inscrito en SUIT (ver justificación) 6. 23.6 Procedimiento de seguimiento y 6. 23.6 Instructivo de evaluación JUSTIFICACIÓN 5. 23.6 Ficha SUIT aprobada - Correo INM trámite ID inscrito en SUIT: Se entrega correo donde se evidencia el registro del trámite de Institutos Designados - ID, en el aplicativo SUIT con el código sería el 83399. Sin embargo este se encuentra pendiente por aprobación por parte del DAFP dado que para llegar al trámite en el aplicativo se requirieron pasos previos que se empezaron a adelantar desde mayo: concepto de aprobación de la resolución de modificación por parte del DAFP, luego el ajuste y revisión jurídica de la resolución modificatoria, fecha y firma de Dirección, posteriormente la solicitud a imprenta nacional de la cotización para publicación de la resolución modificatoria, confirmación de la publicación de la resolución en el diario oficial; con el resultado final de la publicación sumado al link del formulario de solicitud de ID fue posible hacer la mencionada solicitud en el aplicativo SUIT, en este momento estamos a la espera de los resultados del DAFP. Nota: Tener en cuenta que los documentos cargados en ISOLUCIÓN solo se pueden obtener con solicitud a la Oficina Asesora de Planeación frente a los siguientes tres (3) escenarios: 1. seguimiento por parte de los organismos de control, 2. auditorías externas o 3. Evaluaciones "por pares". De esta manera para algunos documentos se adjunta el pantallazo del aplicativo, donde se evidencian los documentos realizados y cargado. Para ello pueden ingresar y validar que lo documentos se encuentran publicados. | AV27: 6 | AY27: Se realiza entrega del correo donde se evidencia que se encuentra activa la respectiva ficha SUIT del trámite para InstitutosDesignados (ID); se puede consultar dicha ficha en el link: http://visor.suit.gov. co/VisorSUIT/index.jsf?FI= 83399 Nota: Con el mencionado entregable se dará cumplimiento a las metas del M6 . | BH27: 0 | BI27: Se realiza entrega de las evidencias de los avances realizados y correos que se remite del Subdirector con la justificación al no cumplirse la meta | BK27: O.K
A28: B. Metrología para el fomento de la productividad | B28: B.1 Brindar herramientas que faciliten la diseminación de la trazabilidad y del conocimiento en metrología, para contribuir al aseguramiento de la calidad de los bienes y servicios que se desarrollan y comercializan en el país | C28: B.1.1 Identificar las necesidades y brechas en metrología en sectores productivos priorizados, como: industria del movimiento, de la química, de la energía, de alimentos, de aseo, de la farmacéutica, de la construcción, y de plásticos y de pinturas | D28: B 1.1-1 Estudios de identificación de necesidades y brechas metrológicas elaborados | E28: 24 | F28: Publicar el documento de la metodología de priorización - CONPES 3957 | G28: Soporte de publicación del documento | S28: 0 | T28: =SUM(H28:S28) -> 0 | U28: Subdirector SMQB | V28: Subdirección de Metrología Química y Biología | W28: Funcionamiento | X28: =AL28 -> 0 | Y28: =AN28 -> 0 | Z28: =AP28 -> 0 | AA28: =AR28 -> 0 | AB28: =AT28 -> 0 | AC28: =AV28 -> 0 | AD28: =AX28 -> 0 | AE28: =AZ28 -> 0 | AF28: =BB28 -> 0 | AG28: =BD28 -> 0 | AH28: =BF28 -> 0 | AI28: =BH28 -> 0 | AJ28: =SUM(X28:AI28) -> 0 | AK28: 0.0% | BK28: O.K
E29: 25 | F29: Realizar estudios bajo la metodología de identificación de necesidades metrológicas | G29: Informe de identificación de necesidades metrológicas, donde se evidencia el desrrollo de los 2 estudios. | S29: 2 | T29: =SUM(H29:S29) -> 2 | U29: Claudia Angélica Guillén Luisa Juana Bernal | V29: Subdirección de Servicios Metrológicos y Relación con el Ciudadano | W29: Funcionamiento | X29: =AL29 -> 0 | Y29: =AN29 -> 0 | Z29: =AP29 -> 0 | AA29: =AR29 -> 0 | AB29: =AT29 -> 0 | AC29: =AV29 -> 0 | AD29: =AX29 -> 0 | AE29: =AZ29 -> 0 | AF29: =BB29 -> 0 | AG29: =BD29 -> 0 | AH29: =BF29 -> 0 | AI29: =BH29 -> 2 | AJ29: =SUM(X29:AI29) -> 2 | AK29: =AJ29/T29 -> 1 | BH29: 2 | BI29: Se realiza entrega de los siguientes dos (2) estudios: 1. Informe de resultados de aplicación de la metodología de identificación de brechas metrológicas de carne bovina en el departamento de Córdoba. 2. Informe de resultados de aplicación de la metodología de identificación de brechas metrológicas de tuberías plásticas de redes de acueducto e instalaciones hidráulicas | BK29: O.K
E30: 26 | F30: Identificar criterios en las regiones asistidas con los foros que permiten completar informacion estrategica con el objetivo de fortalecer la oferta de los servicios metrologicos. | G30: Informe elaborado | R30: 1 | T30: =SUM(H30:S30) -> 1 | U30: Mayer Flórez Cárdenas | V30: Subdirección de Servicios Metrológicos y Relación con el Ciudadano | W30: Proyecto de Inversión PEI | X30: =AL30 -> 0 | Y30: =AN30 -> 0 | Z30: =AP30 -> 0 | AA30: =AR30 -> 0 | AB30: =AT30 -> 0 | AC30: =AV30 -> 0 | AD30: =AX30 -> 0 | AE30: =AZ30 -> 0 | AF30: =BB30 -> 0 | AG30: =BD30 -> 0 | AH30: =BF30 -> 1 | AI30: =BH30 -> 0 | AJ30: =SUM(X30:AI30) -> 1 | AK30: =AJ30/T30 -> 1 | BF30: 1 | BG30: Se realiza entrega del informe el cual evidencia la identificación de criterios en las 3 regiones, 4 departamentos y 6 municipios asistidos con el desarrollo de los Foros Científico Social “Metrología es calidad de vida”. De igual manera se realiza entrega de los anexos relacionados. | BK30: O.K
E31: 27 | F31: Actualizar estadísticas de servicios prestados por el INM | G31: Informe de estadísticas actualizadas a 2021 | K31: 1 | T31: =SUM(H31:S31) -> 1 | U31: Aminta Peñaranda | V31: Oficina Asesora de Planeación | W31: Funcionamiento | X31: =AL31 -> 0 | Y31: =AN31 -> 0 | Z31: =AP31 -> 0 | AA31: =AR31 -> 1 | AB31: =AT31 -> 0 | AC31: =AV31 -> 0 | AD31: =AX31 -> 0 | AE31: =AZ31 -> 0 | AF31: =BB31 -> 0 | AG31: =BD31 -> 0 | AH31: =BF31 -> 0 | AI31: =BH31 -> 0 | AJ31: =SUM(X31:AI31) -> 1 | AK31: =AJ31/T31 -> 1 | AR31: 1 | AS31: Se presenta informe de estadísiticas de servicios prestados por el INM para la vigencia 2021, el informe se encuentra a la espera de visto bueno por parte del jefge de OAP y posterior firma.
C32: B.1.2 Fomentar la articulación entre partes interesadas para el desarrollo de la trazabilidad de las mediciones en el país y la transferencia en conocimiento en metrología | D32: B 1.2-1 Grupos Técnicos por Magnitud y Grupos Técnicos Temáticos en operación | E32: 28 | F32: Realizar y participar en reuniones de subgrupos o subredes de trabajo de la RCM | G32: Acta de reunión | O32: 1 | S32: 2 | T32: =SUM(H32:S32) -> 3 | U32: Subdirector de Metrología Física / (Sebastian Herreño) | V32: Subdirección de Metrología Física | W32: Funcionamiento | X32: =AL32 -> 0 | Y32: =AN32 -> 0 | Z32: =AP32 -> 0 | AA32: =AR32 -> 0 | AB32: =AT32 -> 0 | AC32: =AV32 -> 1 | AD32: =AX32 -> 0 | AE32: =AZ32 -> 0 | AF32: =BB32 -> 0 | AG32: =BD32 -> 0 | AH32: =BF32 -> 0 | AI32: =BH32 -> 0 | AJ32: =SUM(X32:AI32) -> 1 | AK32: =AJ32/T32 -> 0.33333333 | AV32: 1 | AW32: Se participó en una reunión del grupo técnico por Magnitud de Temperatura donde se establecio los temas a tartar (segun solicitud de la industria) en las proximas guias de calibración a elaborar en temperatura y Humedad Como soporte: Se remit acta de la reunión con lista de participantes | AZ32: 0 | BA32: No hubo avance de esta actividad para este mes | BB32: 0 | BC32: No hubo avance de esta actividad para este mes | BD32: 0 | BE32: No hubo avance de esta actividad para este mes | BH32: 0 | BI32: No se llevaron a cabo mas reuniones debido a que la RCM se esta reestructurando | BK32: No se presenta avance en M8
E33: 29 | F33: Realizar reuniones del grupo técnico temático o magnitud de la SMQB para la elaboración de guías de medición en metrología química y biológicas o guías de calibración | G33: Listado de asistencia Acta de reunión | O33: 1 | R33: 1 | S33: 2 | T33: =SUM(H33:S33) -> 4 | U33: Subdirector SMQB | V33: Subdirección de Metrología Química y Biología | W33: Plan de trabajo Mesas MINCIT cafeteros - plaguicidas Proyecto Universidad de Lovaina Proyecto de inversión SMQB | X33: =AL33 -> 0 | Y33: =AN33 -> 0 | Z33: =AP33 -> 0 | AA33: =AR33 -> 0 | AB33: =AT33 -> 0 | AC33: =AV33 -> 0 | AD33: =AX33 -> 0 | AE33: =AZ33 -> 1 | AF33: =BB33 -> 0 | AG33: =BD33 -> 0 | AH33: =BF33 -> 0 | AI33: =BH33 -> 0 | AJ33: =SUM(X33:AI33) -> 1 | AK33: =AJ33/T33 -> 0.25 | AZ33: 1 | BA33: Se realizó la reunión del Gurpo tecnico Temático de Quimica con relación a la t presentación del contenido propuesto para la guía de preparaciónde MR in house de plaguicidas | BF33: 0 | BG33: NO SE Realiza reuniones del grupo técnico temático o magnitud de la SMQB para la elaboración de guías de medición en metrología química y biológicas o guías de calibración | BH33: 0 | BI33: NO SE Realiza reuniones del grupo técnico temático o magnitud de la SMQB para la elaboración de guías de medición en metrología química y biológicas o guías de calibración
E34: 30 | F34: Desarrollar y coordinar actividades de la Red Colombiana de Metrología | G34: Lista de asistencia y acta de reunión de la socialización de las actividades realizadas en el marco de los Grupos de la RCM. | J34: 1 | M34: 1 | P34: 1 | S34: 1 | T34: =SUM(H34:S34) -> 4 | U34: Diego Alejandro Martínez | V34: Subdirección de Servicios Metrológicos y Relación con el Ciudadano | W34: Funcionamiento | X34: =AL34 -> 0 | Y34: =AN34 -> 0 | Z34: =AP34 -> 1 | AA34: =AR34 -> 0 | AB34: =AT34 -> 0 | AC34: =AV34 -> 0 | AD34: =AX34 -> 0 | AE34: =AZ34 -> 1 | AF34: =BB34 -> 1 | AG34: =BD34 -> 0 | AH34: =BF34 -> 0 | AI34: =BH34 -> 1 | AJ34: =SUM(X34:AI34) -> 4 | AK34: =AJ34/T34 -> 1 | AP34: 1 | AQ34: Se reporta la lista de asistencia de la reunión que se realizó el día 16 de marzo de 2022 con los Grupos Técnicos por Magnitud de la RCM. Por otro lado, teniendo en cuenta la la jornada de planeación estratégica para los planes de acción de la Subdirección de Servicios Metrológicos, esta actividad no va a continuar reportandose independientemente, sino incluida dentro del plan de trabajo de la RCM y su respectiva ejecución, por esta razón no se ha realizado acta de reunión. | AV34: 0 | AW34: A la fecha no se realiza entregable para la preente activdiad dado que los Grupos Técnicos por Magnitud y Tematicos, en la nueva estructrua de la RCM conformarían de Subred de calibración y ensayo, y esta Sudred comenzó su trabajo a partir del evento de relanzamienot de la RCM realizado el 5 de julio de 2022. | AX34: 0 | AY34: El entrable del M6, se espera sea entregado para el M8 dado que se realizará una reunión de la subred de calibración y así se reporta la socialización que menciona la actividad del plan de acción. | AZ34: 1 | BA34: Se realiza entrega del acta y lista de asistencia de la reunión de socialización del plan de trabajo y el nuevo reglamento interno de la RCM. | BB34: 1 | BC34: Se realiza entrega de la la agenda, lista de asistencia y acta de reunión de la socialización de las actividades realizadas en el marco de los Grupos de la RCM. | BH34: 1 | BI34: Se entrega de acta de reunión SubRed de Calibración y Ensayo de la Red Colombiana de Metrología, RCM
E35: 31 | F35: Realizar la propuesta de fortalecimiento de la Red Colombiana de Metrología | G35: 1- Documento inicial con la propuesta de fortalecimiento. (M4) 2- Documento final con la propuesta de fortalecimiento. (M6) | K35: 1 | M35: 1 | T35: =SUM(H35:S35) -> 2 | U35: Diego Alejandro Martínez | V35: Subdirección de Servicios Metrológicos y Relación con el Ciudadano | W35: Funcionamiento | X35: =AL35 -> 0 | Y35: =AN35 -> 0 | Z35: =AP35 -> 0 | AA35: =AR35 -> 1 | AB35: =AT35 -> 0 | AC35: =AV35 -> 0 | AD35: =AX35 -> 1 | AE35: =AZ35 -> 0 | AF35: =BB35 -> 0 | AG35: =BD35 -> 0 | AH35: =BF35 -> 0 | AI35: =BH35 -> 0 | AJ35: =SUM(X35:AI35) -> 2 | AK35: =AJ35/T35 -> 1 | AR35: 1 | AS35: Se realiza la entrega del documento inicial con la propuesta para el fortalecimiento de la Red Colombiana de Metrología. Con el objetivo de: "Promover la articulación entre los actores interesados en los temas de metrología, para favorecer el mejoramiento de la calidad de las mediciones con el fin de contribuir en la mejora de la calidad de vida y en el desarrollo económico, científico y tecnológico del país". | AV35: 0 | AW35: En Abril se entregó una propuesta inicial para el fortalecimiento de la RCM y se esperaba complementarlo con la información obtenida en el evento de relanzamiento de la RCM en donde se iba a interactuar directamente con los integrantes de la Red. Este evento estaba programado, en principio, para el 26 de mayo de 2022, por lo que se había dejado Junio como mes de entrega para esta actividad porque había un buen tiempo para elaborarlo. Sin embargo, por diferentes motivos de logística y preparación del evento se debió aplazar dos veces el evento y finalmente se realizó el día 5 de julio de 2022, por lo que aún no se ha procesado la información para el documento final. De esta manera se espera realizar el ajuste al documento y entregarlo en el siguiente reporte. | AX35: 1 | AY35: Se entrega documnento con la propuesta del fortalecimiento de la Red Colombiana de Metrología, el cual tiene como objetivo: Promover la articulación entre los actores interesados en los temas de metrología, para favorecer el mejoramiento de la calidad de las mediciones con el fin de contribuir en la mejora de la calidad de vida y en el desarrollo económico, científico y tecnológico del país.
E36: 32 | F36: Desarrollar el plan de trabajo para el fortalecimiento de la Red Colombiana de Metrología | G36: 1- Matriz Excel con el plan de trabajo inicial para el fortalecimiento de la RCM. (M3) 2- Matriz Excel con el plan de trabajo complementado para el fortalecimiento de la RCM. (M6) 3- Informes de seguimiento con evidencias correspondientes. (M6) (M9) (M12) | K36: 1 | M36: 2 | P36: 1 | S36: 1 | T36: =SUM(H36:S36) -> 5 | U36: Diego Alejandro Martínez | V36: Subdirección de Servicios Metrológicos y Relación con el Ciudadano | X36: =AL36 -> 0 | Y36: =AN36 -> 0 | Z36: =AP36 -> 0 | AA36: =AR36 -> 1 | AB36: =AT36 -> 0 | AC36: =AV36 -> 1 | AD36: =AX36 -> 1 | AE36: =AZ36 -> 0 | AF36: =BB36 -> 1 | AG36: =BD36 -> 0 | AH36: =BF36 -> 0 | AI36: =BH36 -> 1 | AJ36: =SUM(X36:AI36) -> 5 | AK36: =AJ36/T36 -> 1 | AR36: 1 | AS36: Se realiza la entrega de la matriz excel donde se evidencia el plan de trabajo inicial para el fortalecimiento de la RCM | AV36: 1 | AW36: Se entrega el Informes de seguimiento con evidencias correspondientes en el cual se presenta el grado de avance de las actividades claves realizadas por el grupo de trabajo de la RCM para dar cumplimiento con el plan de trabajo establecido y lograr los objetivos definidos para el fortalecimiento de RCM, con sus respectivas evidencias. Pendiente entregar: la "Matriz Excel con el plan de trabajo complementado para el fortalecimiento de la RCM", dado que en el mes de abril se entregó una propuesta inicial de plan de trabajo para el fortalecimiento de la RCM y se esperaba complementarlo con la información obtenida en el evento de relanzamiento de la RCM y las reuniones directas con las subredes, en donde se iba a interactuar directamente con los integrantes de la Red. Este evento estaba programado, en principio, para el 26 de mayo de 2022, por lo que se había dejado Junio como mes de entrega para esta actividad porque había un buen tiempo para elaborarlo. Sin embargo, por diferentes motivos de logística y preparación del evento se debió aplazar dos veces el evento y finalmente se realizó el día 5 de julio de 2022, por lo que aún no se ha procesado la información para el documento final. Se espera sea entregada en el siguiente reporte. | AX36: 1 | AY36: Se entrega la Matriz Excel con el plan de trabajo complementado para el fortalecimiento de la RCM. El presente entrgable se encontraba pendiente del reporte pasado (mes de junio), de esta manera se cumpliría con la meta las 2 mestas del M6. | BB36: 1 | BC36: Se realiza entrega del Informes de seguimiento con evidencias correspondientes, en el cual se evidencia el grado de avance de las actividades claves realizadas por el grupo de trabajo de la RCM para dar cumplimiento con el plan de trabajo establecido y lograr los objetivos definidos para el fortalecimiento de RCM. | BH36: 1 | BI36: Se entrega el Informe de actividades Subredes de la Red Colombiana de Metrología
E37: 33 | F37: Proyectar el acto administrativo que reglamenta el funcionamiento y estructura de la RCM | G37: 1- Propuesta de Resolución que reglamenta el funcionamiento y estructura de la RCM. (M6) 2- Resolución aprobada (M12) | M37: 1 | S37: 1 | T37: =SUM(H37:S37) -> 2 | U37: Diego Alejandro Martínez | V37: Subdirección de Servicios Metrológicos y Relación con el Ciudadano | X37: =AL37 -> 0 | Y37: =AN37 -> 0 | Z37: =AP37 -> 0 | AA37: =AR37 -> 0 | AB37: =AT37 -> 0 | AC37: =AV37 -> 1 | AD37: =AX37 -> 0 | AE37: =AZ37 -> 0 | AF37: =BB37 -> 0 | AG37: =BD37 -> 0 | AH37: =BF37 -> 0 | AI37: =BH37 -> 1 | AJ37: =SUM(X37:AI37) -> 2 | AK37: =AJ37/T37 -> 1 | AV37: 1 | AW37: Se entrega la propuesta de la Resolución que reglamenta el funcionamiento y estructura de la RCM | BH37: 1 | BI37: Se entrega acta de aprobación del documento por parte del Director y Subdirector. (Aquí el entregable era la resolución publicada, pero no fue posible por cuestión de lo extenso del proceso, por eso se relaciona la aprobación de los directivos para la Consulta Pública.
E38: 34 | F38: Actualizar Proyecto de Interés Estratégico "Fomento Regional en Metrología" | G38: * Proyecto de Interés Estratégico "Fomento Regional en Metrología", actualizado y aprobado por CIGD | R38: 1 | T38: =SUM(H38:S38) -> 1 | U38: Mayer Flórez Cárdenas | V38: Subdirección de Servicios Metrológicos y Relación con el Ciudadano | W38: Funcionamiento | X38: =AL38 -> 0 | Y38: =AN38 -> 1 | Z38: =AP38 -> 0 | AA38: =AR38 -> 0 | AB38: =AT38 -> 0 | AC38: =AV38 -> 0 | AD38: =AX38 -> 0 | AE38: =AZ38 -> 0 | AF38: =BB38 -> 0 | AG38: =BD38 -> 0 | AH38: =BF38 -> 0 | AI38: =BH38 -> 1 | AJ38: =SUM(X38:AI38) -> 2 | AK38: =AJ38/T38 -> 2 | AN38: 1 | AO38: El proyecto de interés estratégico Fomento Regional en Metrología, fue presentado y aprobado en CIGD el pasado 30 de diciembre de 2021, mediante CIGD 21-17 con acta No. 17 de fecha 2021-12-30. La cual se entrega como evidencia para el cumplimiento de la meta. Resultado: 100% | BF38: 0 | BG38: "El Proyecto de IE "FRM" versión 2.0 no se ha presentado en CIGD porque falta confirmar por el Subdiorector cuándo se presentará, sin embargo ya fue presentada la propuesta de la nueva versión del Proyecto a integrantes (DNP y MinCit) del Comité de Regionalización del Sistema Nacional de Competitividad e Innovación conjuntamente con la Dirección General del INM y Subdirector de SMRC, de dicha socialización quedaron pendientes unos ajustes pequeños, el cual se viene realizando por parte del grupo de FRM". | BH38: 1 | BI38: Se entrega la propuesta del Proyecto de IE "FRM" actualizado en versión 2.0 pero sin presentar a CIGD porque no hubo citación al grupo de FRM para ello.
E39: 35 | F39: Ejecutar Proyecto de Interés Estratégico "Fomento Regional en Metrología" | G39: * Informe de avance del Proyecto de Interés Estratégico, con el plan de acción | K39: 1 | M39: 1 | P39: 1 | S39: 1 | T39: =SUM(H39:S39) -> 4 | U39: Mayer Flórez Cárdenas | V39: Subdirección de Servicios Metrológicos y Relación con el Ciudadano | W39: Funcionamiento | X39: =AL39 -> 0 | Y39: =AN39 -> 0 | Z39: =AP39 -> 0 | AA39: =AR39 -> 1 | AB39: =AT39 -> 0 | AC39: =AV39 -> 1 | AD39: =AX39 -> 0 | AE39: =AZ39 -> 0 | AF39: =BB39 -> 1 | AG39: =BD39 -> 0 | AH39: =BF39 -> 0 | AI39: =BH39 -> 1 | AJ39: =SUM(X39:AI39) -> 4 | AK39: =AJ39/T39 -> 1 | AR39: 1 | AS39: Se realiza entrega del Informe de avance del Proyecto de Interés Estratégico, el cual recopila las actividades llevadas a cabo lideradas por el grupo de fomento regional para el desarrollo del primer foro científico social “Metrología es calidad de vida”. | AV39: 1 | AW39: Se entrega el Informe de avance del Proyecto de Interés Estratégico “Fomento Regional en Metrología”, en el cual se evidencia la metodología implementada para el desarrollo de las actividades, así como también, los productos y logros obtenidos entre el 1 de enero hasta el 30 de junio de 2022 en la ejecución del Proyecto de Interés. De igual formta este se evidencia evidencia la programación y ejecución del proyecto. | BB39: 1 | BC39: Se realiza entrega del Informe de avance del Proyecto de Interés Estratégico, con el plan de acción, donde se evidenica la metodología implementada para el desarrollo de las actividades, así como también, los productos y logros obtenidos entre el 1 de enero hasta el 2 de septiembre de 2022 en la ejecución del Proyecto de Interés Estratégico: “Fomento Regional en Metrología”. De igual manra se entregan cuatro (4) evidenicas como anexos del informe. Anexo-1. Socialización presencial de avances de actividades de FRM a las areas en el INM Anexo-2. Presentacion consolidada con resultado de los 4 foros Anexo-3. Infografia por cada foro realizado Anexo-4-Priorización de resultados de los 4 Foros | BH39: 1 | BI39: Se entrega el informe de avance del Proyecto de Interés Estratégico, con los soportes correspondientes.
