Workbook
Name lst_activosinfo: 'Activos Inf INM'!$D$8:$D$186
Name lst_activosinfo: #REF!
Name lst_areas: 'Listas Activos'!$B$56:$B$64
Name lst_avisoprivacidad: 'Listas Activos'!$E$34:$E$36
Name lst_cargos: 'Listas Activos'!$B$91:$B$132
Name lst_claseactivo: 'Listas Activos'!$B$51:$B$52
Name lst_clasoreserinfo: 'Listas Ley Transparencia'!$L$3:$L$5
Name lst_condleg: 'Listas Ley Transparencia'!$H$3:$H$17
Name lst_confidencialidad: 'Listas Activos'!$B$24:$B$28
Name lst_datosabiertos: 'Listas Activos'!$E$39:$E$40
Name lst_datospersonales: 'Listas Activos'!$E$24:$E$25
Name lst_datossensibles: 'Listas Activos'!$E$29:$E$30
Name lst_disponibilidad: 'Listas Activos'!$B$38:$B$41
Name lst_formato: 'Listas Ley Transparencia'!$D$3:$D$12
Name lst_frecuencia: 'Listas Ley Transparencia'!$N$3:$N$14
Name lst_idioma: 'Listas Ley Transparencia'!$B$3:$B$6
Name lst_infpubdis: 'Listas Ley Transparencia'!$E$3:$E$5
Name lst_integridad: 'Listas Activos'!$B$31:$B$34
Name lst_lugarconsu: 'Listas Ley Transparencia'!$O$3:$O$11
Name lst_medioconser: 'Listas Ley Transparencia'!$C$3:$C$5
Name lst_procesos: 'Listas Activos'!$B$67:$B$88
Name lst_responinfo: 'Listas Ley Transparencia'!$G$3:$G$22
Name lst_respprodinf: 'Listas Ley Transparencia'!$F$3:$F$34
Name lst_tipoactivos: 'Listas Activos'!$B$11:$B$20
Name lst_tipodedato: 'Listas Activos'!$E$20:$E$21
Name lst_usoactivo: 'Listas Activos'!$E$44:$E$46

Sheet Activos Inf INM
C1: Fecha de actualización | D1: 45972 | AP1: Código: E-05-F-005
E2: MATRIZ DE ACTIVOS DE INFORMACION | AP2: Versión: 3
AP3: Página: Ver pie de Pàg
A5: IDENTIFICACIÓN DE ACTIVOS DE INFORMACIÓN | K5: VALORACIÓN DEL ACTIVO | U5: PROTECCIÓN DE DATOS PERSONALES | Z5: ALINEACIÓN LEY DE TRANSPARENCIA Y ACCESO A LA INFORMACIÓN (Aplica para los activos de tipo "Datos / Información" y "Bases de datos"
A6: Id. Activo | B6: AREA | C6: PROCESO | D6: NOMBRE O CATEGORIA DEL ACTIVO | E6: DESCRIPCIÓN DEL ACTIVO (Funcionalidad) | F6: Estado del Activo | G6: USUARIO DEL ACTIVO | H6: DUEÑO DEL ACTIVO | I6: CUSTODIO | J6: CLASE DEL ACTIVO | K6: TIPO DE ACTIVO | L6: CRITICIDAD RESPECTO A LA CONFIDENCIALIDAD | M6: Valor | N6: CRITICIDAD RESPECTO A LA INTEGRIDAD | O6: Valor | P6: CRITICIDAD RESPECTO A LA DISPONIBILIDAD | Q6: Valor | R6: Valor total del Activo | S6: Criticidad del Activo (Calculada) | T6: OBSERVACIONES | U6: El activo almacena o solicita Datos personales? | V6: Los datos almacenados o requeridos son públicos? | W6: Los datos almacenados o requeridos son Privados? | X6: Los datos almacenados o requeridos son Semiprivados? | Y6: Los datos almacenados o requeridos son Sensibles? | Z6: Idioma | AA6: Medio de conservación y/o soporte | AB6: Formato visualización o consulta | AC6: Información publicada o disponible | AD6: Fecha de generación de la información | AE6: Cargo responsable de la producción de la información | AF6: Responsable de la producción de la información (digitado) | AG6: ¿Por qué es clasificada o reservada? (según artículos 18 o 19 de Ley 1712). | AH6: Fundamento normativo, constitucional o legal | AI6: Fundamento jurídico de la excepción | AJ6: Descripción de condición legitima de la excepción | AK6: Clasificación del activo de acuerdo con transparencia ley 1712 | AL6: Plazo de Clasificación o Reserva | AM6: Clasificación o reserva total o parcial de la información | AN6: Fecha de calificación | AO6: Frecuencia de actualización | AP6: Categoría lugares de consulta | AQ6: Detalle Lugar de Consulta
A7: # | B7: Seleccione área | C7: Diligencie el proceso al que pertenece el activo según el mapa de procesos de la entidad | D7: Nombre que lo identifique de manera precisa y a través del cual se identificará el activo de información. | E7: Describa el activo de información, según sus características, de manera clara e identificable para todos los miembros del proceso. Si aplica, registre para los activos que corresponda, el código que tenga el activo de información en el Sistema de Gestíón de Calidad. (Ejs. Procedimiento, Formato, etc.) | F7: Registre el estado del activo de información en relación a si es Nuevo, Actualizado o Historico (ya no es vigente). | G7: Registre quien hace uso del activo de información, puede ser toda la entidad, grupos, direcciones, oficinas, etc. | H7: Registre cargo que actúa como "dueño" o decide sobre el activo de información, establece controles, lo modifica, crea, cambia, ajusta, elimina o transforma. | I7: Cargo que aplica los controles de acuerdo a lo definido por el dueño, en relación a: administración, almacenamiento, respaldo, accesos, permisos, etc. | J7: Establezca si el activo es primario o de soporte, dependiendo si participa en la misionalidad de la entidad o en los procesos de apoyo. | K7: Seleccione a que categoría pertenece el activo de información que ha registrado | L7: Seleccione una calificación para la confidencialidad de acuerdo a los criterios de la pestaña "calificación valoración" | N7: Seleccione una calificación para la integridad de acuerdo a los criterios de la pestaña "calificación valoración" | P7: Seleccione una calificación para la disponibilidad de acuerdo a los criterios de la pestaña "calificación valoración" | S7: Se diligencia automáticamente | T7: Registre observaciones sobre la calificación realizada en caso de ser requerido. | U7: Seleccione "Si" cuando el activo de información almacene, recolecte, procese, transporte o trate datos personales | V7: Ej. estado civil, profesión u oficio, calidad de comerciante o de servidor público. (pueden estar en registros públicos, documentos públicos, gacetas y boletines oficiales y sentencias judiciales). | W7: Es el dato que por su naturaleza íntima o reservada sólo es relevante para el titular. | X7: Es el que no tiene naturaleza íntima, reservada, ni pública y cuyo conocimiento o divulgación puede interesar no sólo a su titular sino a cierto sector o grupo de personas o a la sociedad en general | Y7: Pueden afectar la intimidad del Titular o generar discriminació. (ej origen racial o étnico, orientación política, creencias religiosas o filosóficas, pertenencia a sindicatos, organizaciones sociales, de derechos humanos o partidos políticos, salud, vida sexual, y los datos biométricos). | Z7: Seleccione en que idioma se encuentra la información del activo de información | AA7: Seleccione de que manera se conserva el activo de información. | AB7: Seleccione de que manera se suministra la información en caso de requerir una consulta. | AC7: Seleccione en que estado se encuentra la información | AD7: Seleccione la fecha a partir de la cual se genera la información del activo. (yyyy-mm-dd) | AE7: Seleccione quien crea o define la información. En caso de que no sea un cargo o rol seleccione "definido manualmente" para habilitar la columna siguiente: | AF7: Registre de manera manual lo requerido en la columna anterior. Esta columna se activa en caso de haber seleccionado "definido manualmente" | AG7: Seleccione la excepción por la cual la información no debe o no puede ser publica | AH7: Registre una norma, ley, decreto, circulares, normativas y aspecto legal que sustenta la excepción. | AI7: Se diligencia de manera automática según lo seleccionado como "Condición legitima de la excepción" | AJ7: Se diligencia de manera automática según lo seleccionado como "Condición legitima de la excepción" | AK7: Se diligencia de manera automática según lo seleccionado como "Condición legitima de la excepción" | AL7: Se diligencia de manera automática según lo seleccionado como "Condición legitima de la excepción" | AM7: Seleccione como se debe aplicar la reserva sobre la información del activo | AN7: Registre la fecha yyyy-mm-dd en la cual se realiza la clasificación de la información como reservada o clasificada | AO7: Seleccione la periodicidad o el segmento de tiempo bajo el cual actualiza la información, de acuerdo a su naturaleza o a la normativa aplicable | AP7: Seleccione donde a través de que mecanismo se puede consultar la información | AQ7: Registre URL, Nombres de aplicativos, lugares físicos, etc. asociados al lugar de consulta.
A8: 1 | B8: OIDT | C8: Gestión de Tecnologías de la Información | D8: Copias de respaldo | E8: Copias de respaldo de servidores de datos y de servidores de aplicación. | F8: Actualizado | G8: Toda la entidad | H8: Profesional Especializado Código 2028 Grado 14 | I8: Profesional Especializado Código 2028 Grado 14 | J8: Primario | K8: DATOS / INFORMACIÓN [DI] | L8: Clasificada = Alta | M8: =IFERROR(VLOOKUP(L8,'Listas Activos'!$B$24:$C$28,2,0),0) -> 5 | N8: Alto | O8: =IFERROR(VLOOKUP(N8,'Listas Activos'!$B$31:$C$35,2,0),0) -> 5 | P8: Alto | Q8: =IFERROR(VLOOKUP(P8,'Listas Activos'!$B$38:$C$42,2,0),0) -> 5 | R8: =IF(AND(M8>0,O8>0,Q8>0,U8="Si"),5,IF(OR(M8=0,O8=0,Q8=0),0,IF(AND(M8=1,O8=1,Q8=1),1,(IF(OR(AND(M8=5,O8=5),AND(O8=5,Q8=5),AND(M8=5,Q8=5),AND(M8=5,O8=5,Q8=5)),5,3))))) -> 5 | S8: =IFERROR(VLOOKUP(R8,'Listas Activos'!$B$4:$C$7,2,0),"-") -> Alto | U8: Si | V8: Si | W8: Si | X8: Si | Y8: Si | Z8: Español - Ingles | AA8: Electrónico (doc, txt,csv,pdf,jpg, pdf, video digital) | AB8: Otro | AC8: No publicado o No disponible | AD8: 42005 | AE8: Definido manualmente | AF8: Areas usuarias | AG8: Pone en riesgo la intimidad de las personas | AH8: Ley 1581 datos personales | AI8: =IF(ISERROR(VLOOKUP(AG8,'Listas Ley Transparencia'!$H$3:$M$17,2,0)),"",VLOOKUP(AG8,'Listas Ley Transparencia'!$H$3:$M$17,2,0)) -> Información exceptuada por daño de derechos a personas naturales o jurídicas. Articulo 18 Ley 1712 de 2014 | AJ8: =IF(ISERROR(VLOOKUP(AG8,'Listas Ley Transparencia'!$H$3:$M$17,3,0)),"",VLOOKUP(AG8,'Listas Ley Transparencia'!$H$3:$M$17,3,0)) -> El derecho de toda persona a la intimidad, bajo las limitaciones propias que impone la condición de servidor publico, en concordancia con lo estipulado | AK8: =IF(ISERROR(VLOOKUP(AG8,'Listas Ley Transparencia'!$H$3:$M$17,4,0)),"",VLOOKUP(AG8,'Listas Ley Transparencia'!$H$3:$M$17,4,0)) -> Publica Clasificada | AL8: =IF(ISERROR(VLOOKUP(AG8,'Listas Ley Transparencia'!$H$3:$M$17,6,0)),"",VLOOKUP(AG8,'Listas Ley Transparencia'!$H$3:$M$17,6,0)) -> Ilimitada | AM8: Parcial | AN8: 45945 | AO8: Semanal | AP8: Hibrido: Archivo Digital y Sistemas de Información | AQ8: Disco y cinta, resposan el datacenter
A9: 2 | B9: OIDT | C9: Gestión de Tecnologías de la Información | D9: SURDO | E9: Sistema Único de Radicación de Documentos | F9: Actualizado | G9: Toda la entidad | H9: Profesional Especializado Código 2028 Grado 18 | I9: Profesional Especializado Código 2028 Grado 18 | J9: Soporte | K9: SERVICIOS [SI] | L9: Clasificada = Alta | M9: =IFERROR(VLOOKUP(L9,'Listas Activos'!$B$24:$C$28,2,0),0) -> 5 | N9: Alto | O9: =IFERROR(VLOOKUP(N9,'Listas Activos'!$B$31:$C$35,2,0),0) -> 5 | P9: Medio | Q9: =IFERROR(VLOOKUP(P9,'Listas Activos'!$B$38:$C$42,2,0),0) -> 3 | R9: =IF(AND(M9>0,O9>0,Q9>0,U9="Si"),5,IF(OR(M9=0,O9=0,Q9=0),0,IF(AND(M9=1,O9=1,Q9=1),1,(IF(OR(AND(M9=5,O9=5),AND(O9=5,Q9=5),AND(M9=5,Q9=5),AND(M9=5,O9=5,Q9=5)),5,3))))) -> 5 | S9: =IFERROR(VLOOKUP(R9,'Listas Activos'!$B$4:$C$7,2,0),"-") -> Alto | U9: Si | V9: No | W9: No | X9: Si | Y9: No
A10: 3 | B10: OIDT | C10: Gestión de Tecnologías de la Información | D10: SASM | E10: Sistema de Administración de Servicios Metrológicos | F10: Actualizado | G10: Toda la entidad | H10: Profesional Especializado Código 2028 Grado 18 | I10: Profesional Especializado Código 2028 Grado 18 | J10: Soporte | K10: SERVICIOS [SI] | L10: Clasificada = Alta | M10: =IFERROR(VLOOKUP(L10,'Listas Activos'!$B$24:$C$28,2,0),0) -> 5 | N10: Alto | O10: =IFERROR(VLOOKUP(N10,'Listas Activos'!$B$31:$C$35,2,0),0) -> 5 | P10: Alto | Q10: =IFERROR(VLOOKUP(P10,'Listas Activos'!$B$38:$C$42,2,0),0) -> 5 | R10: =IF(AND(M10>0,O10>0,Q10>0,U10="Si"),5,IF(OR(M10=0,O10=0,Q10=0),0,IF(AND(M10=1,O10=1,Q10=1),1,(IF(OR(AND(M10=5,O10=5),AND(O10=5,Q10=5),AND(M10=5,Q10=5),AND(M10=5,O10=5,Q10=5)),5,3))))) -> 5 | S10: =IFERROR(VLOOKUP(R10,'Listas Activos'!$B$4:$C$7,2,0),"-") -> Alto | U10: Si | V10: No | W10: No | X10: Si | Y10: No
A11: 4 | B11: OIDT | C11: Gestión de Tecnologías de la Información | D11: Servicios en Línea | E11: Sistema de Atención de Servicios en Línea del INM | F11: Actualizado | G11: Toda la entidad | H11: Profesional Especializado Código 2028 Grado 18 | I11: Profesional Especializado Código 2028 Grado 18 | J11: Soporte | K11: SERVICIOS [SI] | L11: Clasificada = Alta | M11: =IFERROR(VLOOKUP(L11,'Listas Activos'!$B$24:$C$28,2,0),0) -> 5 | N11: Alto | O11: =IFERROR(VLOOKUP(N11,'Listas Activos'!$B$31:$C$35,2,0),0) -> 5 | P11: Alto | Q11: =IFERROR(VLOOKUP(P11,'Listas Activos'!$B$38:$C$42,2,0),0) -> 5 | R11: =IF(AND(M11>0,O11>0,Q11>0,U11="Si"),5,IF(OR(M11=0,O11=0,Q11=0),0,IF(AND(M11=1,O11=1,Q11=1),1,(IF(OR(AND(M11=5,O11=5),AND(O11=5,Q11=5),AND(M11=5,Q11=5),AND(M11=5,O11=5,Q11=5)),5,3))))) -> 5 | S11: =IFERROR(VLOOKUP(R11,'Listas Activos'!$B$4:$C$7,2,0),"-") -> Alto | U11: Si | V11: No | W11: No | X11: Si | Y11: No
A12: 5 | B12: OIDT | C12: Gestión de Tecnologías de la Información | D12: Recaudos | E12: Sistema de Adminsitración de Recaudos por Servicios | F12: Actualizado | G12: Toda la entidad | H12: Profesional Especializado Código 2028 Grado 18 | I12: Profesional Especializado Código 2028 Grado 18 | J12: Soporte | K12: SERVICIOS [SI] | L12: Clasificada = Alta | M12: =IFERROR(VLOOKUP(L12,'Listas Activos'!$B$24:$C$28,2,0),0) -> 5 | N12: Alto | O12: =IFERROR(VLOOKUP(N12,'Listas Activos'!$B$31:$C$35,2,0),0) -> 5 | P12: Alto | Q12: =IFERROR(VLOOKUP(P12,'Listas Activos'!$B$38:$C$42,2,0),0) -> 5 | R12: =IF(AND(M12>0,O12>0,Q12>0,U12="Si"),5,IF(OR(M12=0,O12=0,Q12=0),0,IF(AND(M12=1,O12=1,Q12=1),1,(IF(OR(AND(M12=5,O12=5),AND(O12=5,Q12=5),AND(M12=5,Q12=5),AND(M12=5,O12=5,Q12=5)),5,3))))) -> 5 | S12: =IFERROR(VLOOKUP(R12,'Listas Activos'!$B$4:$C$7,2,0),"-") -> Alto | U12: Si | V12: No | W12: No | X12: Si | Y12: No
A13: 6 | B13: OIDT | C13: Gestión de Tecnologías de la Información | D13: Intranet | E13: Intranet del INM | F13: Actualizado | G13: Toda la entidad | H13: Profesional Especializado Código 2028 Grado 18 | I13: Profesional Especializado Código 2028 Grado 18 | J13: Soporte | K13: SERVICIOS [SI] | L13: Uso Interno = Medio | M13: =IFERROR(VLOOKUP(L13,'Listas Activos'!$B$24:$C$28,2,0),0) -> 3 | N13: Medio | O13: =IFERROR(VLOOKUP(N13,'Listas Activos'!$B$31:$C$35,2,0),0) -> 3 | P13: Bajo | Q13: =IFERROR(VLOOKUP(P13,'Listas Activos'!$B$38:$C$42,2,0),0) -> 1 | R13: =IF(AND(M13>0,O13>0,Q13>0,U13="Si"),5,IF(OR(M13=0,O13=0,Q13=0),0,IF(AND(M13=1,O13=1,Q13=1),1,(IF(OR(AND(M13=5,O13=5),AND(O13=5,Q13=5),AND(M13=5,Q13=5),AND(M13=5,O13=5,Q13=5)),5,3))))) -> 3 | S13: =IFERROR(VLOOKUP(R13,'Listas Activos'!$B$4:$C$7,2,0),"-") -> Medio | U13: No
A14: 7 | B14: OIDT | C14: Gestión de Tecnologías de la Información | D14: SISEPM | E14: Sistema de Seguimiento de Planes de Mejoramiento | F14: Actualizado | G14: Toda la entidad | H14: Profesional Especializado Código 2028 Grado 18 | I14: Profesional Especializado Código 2028 Grado 18 | J14: Soporte | K14: SERVICIOS [SI] | L14: Uso Interno = Medio | M14: =IFERROR(VLOOKUP(L14,'Listas Activos'!$B$24:$C$28,2,0),0) -> 3 | N14: Alto | O14: =IFERROR(VLOOKUP(N14,'Listas Activos'!$B$31:$C$35,2,0),0) -> 5 | P14: Alto | Q14: =IFERROR(VLOOKUP(P14,'Listas Activos'!$B$38:$C$42,2,0),0) -> 5 | R14: =IF(AND(M14>0,O14>0,Q14>0,U14="Si"),5,IF(OR(M14=0,O14=0,Q14=0),0,IF(AND(M14=1,O14=1,Q14=1),1,(IF(OR(AND(M14=5,O14=5),AND(O14=5,Q14=5),AND(M14=5,Q14=5),AND(M14=5,O14=5,Q14=5)),5,3))))) -> 5 | S14: =IFERROR(VLOOKUP(R14,'Listas Activos'!$B$4:$C$7,2,0),"-") -> Alto | U14: No
A15: 8 | B15: OIDT | C15: Gestión de Tecnologías de la Información | D15: Hoja de Vida Equipos | E15: Sistema para el registro y seguimiento de instrumentos metrológicos de la entidad | F15: Actualizado | G15: Toda la entidad | H15: Profesional Especializado Código 2028 Grado 18 | I15: Profesional Especializado Código 2028 Grado 18 | J15: Soporte | K15: SERVICIOS [SI] | L15: Uso Interno = Medio | M15: =IFERROR(VLOOKUP(L15,'Listas Activos'!$B$24:$C$28,2,0),0) -> 3 | N15: Alto | O15: =IFERROR(VLOOKUP(N15,'Listas Activos'!$B$31:$C$35,2,0),0) -> 5 | P15: Alto | Q15: =IFERROR(VLOOKUP(P15,'Listas Activos'!$B$38:$C$42,2,0),0) -> 5 | R15: =IF(AND(M15>0,O15>0,Q15>0,U15="Si"),5,IF(OR(M15=0,O15=0,Q15=0),0,IF(AND(M15=1,O15=1,Q15=1),1,(IF(OR(AND(M15=5,O15=5),AND(O15=5,Q15=5),AND(M15=5,Q15=5),AND(M15=5,O15=5,Q15=5)),5,3))))) -> 5 | S15: =IFERROR(VLOOKUP(R15,'Listas Activos'!$B$4:$C$7,2,0),"-") -> Alto | U15: No
A16: 9 | B16: OIDT | C16: Gestión de Tecnologías de la Información | D16: Seguimiento Planes | E16: Sistema para el registro y seguimiento de planes institucionales y evaluaciones de desempeño | F16: Actualizado | G16: Toda la entidad | H16: Profesional Especializado Código 2028 Grado 18 | I16: Profesional Especializado Código 2028 Grado 18 | J16: Soporte | K16: SERVICIOS [SI] | L16: Uso Interno = Medio | M16: =IFERROR(VLOOKUP(L16,'Listas Activos'!$B$24:$C$28,2,0),0) -> 3 | N16: Alto | O16: =IFERROR(VLOOKUP(N16,'Listas Activos'!$B$31:$C$35,2,0),0) -> 5 | P16: Medio | Q16: =IFERROR(VLOOKUP(P16,'Listas Activos'!$B$38:$C$42,2,0),0) -> 3 | R16: =IF(AND(M16>0,O16>0,Q16>0,U16="Si"),5,IF(OR(M16=0,O16=0,Q16=0),0,IF(AND(M16=1,O16=1,Q16=1),1,(IF(OR(AND(M16=5,O16=5),AND(O16=5,Q16=5),AND(M16=5,Q16=5),AND(M16=5,O16=5,Q16=5)),5,3))))) -> 3 | S16: =IFERROR(VLOOKUP(R16,'Listas Activos'!$B$4:$C$7,2,0),"-") -> Medio | U16: No
A17: 10 | B17: OIDT | C17: Gestión de Tecnologías de la Información | D17: Biblioteca Digital | E17: Biblioteca Digital (Estudios y acceso a bases de datos externas de Metrología). | F17: Actualizado | G17: Toda la entidad | H17: Profesional Especializado Código 2028 Grado 18 | I17: Profesional Especializado Código 2028 Grado 18 | J17: Soporte | K17: SERVICIOS [SI] | L17: Uso Interno = Medio | M17: =IFERROR(VLOOKUP(L17,'Listas Activos'!$B$24:$C$28,2,0),0) -> 3 | N17: Medio | O17: =IFERROR(VLOOKUP(N17,'Listas Activos'!$B$31:$C$35,2,0),0) -> 3 | P17: Medio | Q17: =IFERROR(VLOOKUP(P17,'Listas Activos'!$B$38:$C$42,2,0),0) -> 3 | R17: =IF(AND(M17>0,O17>0,Q17>0,U17="Si"),5,IF(OR(M17=0,O17=0,Q17=0),0,IF(AND(M17=1,O17=1,Q17=1),1,(IF(OR(AND(M17=5,O17=5),AND(O17=5,Q17=5),AND(M17=5,Q17=5),AND(M17=5,O17=5,Q17=5)),5,3))))) -> 3 | S17: =IFERROR(VLOOKUP(R17,'Listas Activos'!$B$4:$C$7,2,0),"-") -> Medio | U17: No
A18: 11 | B18: OIDT | C18: Gestión de Tecnologías de la Información | D18: ZK | E18: Sistema de Control de Acceso Biométrico que genera datos para GTH | F18: Nuevo | G18: Toda la entidad | H18: Profesional Especializado Código 2028 Grado 18 | I18: Profesional Especializado Código 2028 Grado 18 | J18: Soporte | K18: SERVICIOS [SI] | L18: Clasificada = Alta | M18: =IFERROR(VLOOKUP(L18,'Listas Activos'!$B$24:$C$28,2,0),0) -> 5 | N18: Alto | O18: =IFERROR(VLOOKUP(N18,'Listas Activos'!$B$31:$C$35,2,0),0) -> 5 | P18: Medio | Q18: =IFERROR(VLOOKUP(P18,'Listas Activos'!$B$38:$C$42,2,0),0) -> 3 | R18: =IF(AND(M18>0,O18>0,Q18>0,U18="Si"),5,IF(OR(M18=0,O18=0,Q18=0),0,IF(AND(M18=1,O18=1,Q18=1),1,(IF(OR(AND(M18=5,O18=5),AND(O18=5,Q18=5),AND(M18=5,Q18=5),AND(M18=5,O18=5,Q18=5)),5,3))))) -> 5 | S18: =IFERROR(VLOOKUP(R18,'Listas Activos'!$B$4:$C$7,2,0),"-") -> Alto | U18: Si | V18: No | W18: No | X18: Si | Y18: Si
A19: 12 | B19: OIDT | C19: Gestión de Tecnologías de la Información | D19: BPMetro | E19: Sistema de registro y seguimiento de solicitudes de servicios y pqrsd del INM | F19: Actualizado | G19: Toda la entidad | H19: Profesional Especializado Código 2028 Grado 18 | I19: Profesional Especializado Código 2028 Grado 18 | J19: Soporte | K19: SERVICIOS [SI] | L19: Clasificada = Alta | M19: =IFERROR(VLOOKUP(L19,'Listas Activos'!$B$24:$C$28,2,0),0) -> 5 | N19: Alto | O19: =IFERROR(VLOOKUP(N19,'Listas Activos'!$B$31:$C$35,2,0),0) -> 5 | P19: Alto | Q19: =IFERROR(VLOOKUP(P19,'Listas Activos'!$B$38:$C$42,2,0),0) -> 5 | R19: =IF(AND(M19>0,O19>0,Q19>0,U19="Si"),5,IF(OR(M19=0,O19=0,Q19=0),0,IF(AND(M19=1,O19=1,Q19=1),1,(IF(OR(AND(M19=5,O19=5),AND(O19=5,Q19=5),AND(M19=5,Q19=5),AND(M19=5,O19=5,Q19=5)),5,3))))) -> 5 | S19: =IFERROR(VLOOKUP(R19,'Listas Activos'!$B$4:$C$7,2,0),"-") -> Alto | U19: No
A20: 13 | B20: OIDT | C20: Gestión de Tecnologías de la Información | D20: elearning | E20: Aprendizaje, se tienen cursos de la subdirecciones de Quimica y Fisica | F20: Actualizado | G20: SMF, SMQB | H20: Profesional Especializado Código 2028 Grado 18 | I20: Profesional Especializado Código 2028 Grado 18 | J20: Soporte | K20: SERVICIOS [SI] | L20: Pública = Baja | M20: =IFERROR(VLOOKUP(L20,'Listas Activos'!$B$24:$C$28,2,0),0) -> 1 | N20: Medio | O20: =IFERROR(VLOOKUP(N20,'Listas Activos'!$B$31:$C$35,2,0),0) -> 3 | P20: Bajo | Q20: =IFERROR(VLOOKUP(P20,'Listas Activos'!$B$38:$C$42,2,0),0) -> 1 | R20: =IF(AND(M20>0,O20>0,Q20>0,U20="Si"),5,IF(OR(M20=0,O20=0,Q20=0),0,IF(AND(M20=1,O20=1,Q20=1),1,(IF(OR(AND(M20=5,O20=5),AND(O20=5,Q20=5),AND(M20=5,Q20=5),AND(M20=5,O20=5,Q20=5)),5,3))))) -> 3 | S20: =IFERROR(VLOOKUP(R20,'Listas Activos'!$B$4:$C$7,2,0),"-") -> Medio | U20: No
A21: 14 | B21: OIDT | C21: Gestión de Tecnologías de la Información | D21: Encuestas on line | E21: Plataforma para la generacion de Encuestas del INM | F21: Actualizado | G21: Toda la entidad | H21: Profesional Especializado Código 2028 Grado 18 | I21: Profesional Especializado Código 2028 Grado 18 | J21: Soporte | K21: SERVICIOS [SI] | L21: Uso Interno = Medio | M21: =IFERROR(VLOOKUP(L21,'Listas Activos'!$B$24:$C$28,2,0),0) -> 3 | N21: Medio | O21: =IFERROR(VLOOKUP(N21,'Listas Activos'!$B$31:$C$35,2,0),0) -> 3 | P21: Medio | Q21: =IFERROR(VLOOKUP(P21,'Listas Activos'!$B$38:$C$42,2,0),0) -> 3 | R21: =IF(AND(M21>0,O21>0,Q21>0,U21="Si"),5,IF(OR(M21=0,O21=0,Q21=0),0,IF(AND(M21=1,O21=1,Q21=1),1,(IF(OR(AND(M21=5,O21=5),AND(O21=5,Q21=5),AND(M21=5,Q21=5),AND(M21=5,O21=5,Q21=5)),5,3))))) -> 3 | S21: =IFERROR(VLOOKUP(R21,'Listas Activos'!$B$4:$C$7,2,0),"-") -> Medio | U21: No
A22: 15 | B22: OIDT | C22: Gestión de Tecnologías de la Información | D22: Hora legal | E22: Plataforma web para la publicacion de la Hora Legal Servicio NTP de suministro de hota legal | F22: Actualizado | G22: Toda la entidad y clientes | H22: Profesional Especializado Código 2028 Grado 18 | I22: Profesional Especializado Código 2028 Grado 18 | J22: Primario | K22: SERVICIOS [SI] | L22: Pública = Baja | M22: =IFERROR(VLOOKUP(L22,'Listas Activos'!$B$24:$C$28,2,0),0) -> 1 | N22: Medio | O22: =IFERROR(VLOOKUP(N22,'Listas Activos'!$B$31:$C$35,2,0),0) -> 3 | P22: Alto | Q22: =IFERROR(VLOOKUP(P22,'Listas Activos'!$B$38:$C$42,2,0),0) -> 5 | R22: =IF(AND(M22>0,O22>0,Q22>0,U22="Si"),5,IF(OR(M22=0,O22=0,Q22=0),0,IF(AND(M22=1,O22=1,Q22=1),1,(IF(OR(AND(M22=5,O22=5),AND(O22=5,Q22=5),AND(M22=5,Q22=5),AND(M22=5,O22=5,Q22=5)),5,3))))) -> 3 | S22: =IFERROR(VLOOKUP(R22,'Listas Activos'!$B$4:$C$7,2,0),"-") -> Medio | U22: No
A23: 16 | B23: OIDT | C23: Gestión de Tecnologías de la Información | D23: Novasoft | E23: Software de inventarios | F23: Nuevo | G23: Gestión administrativa | H23: Profesional Especializado Código 2028 Grado 18 | I23: Profesional Especializado Código 2028 Grado 18 | J23: Soporte | K23: SERVICIOS [SI] | L23: Pública = Baja | M23: =IFERROR(VLOOKUP(L23,'Listas Activos'!$B$24:$C$28,2,0),0) -> 1 | N23: Medio | O23: =IFERROR(VLOOKUP(N23,'Listas Activos'!$B$31:$C$35,2,0),0) -> 3 | P23: Medio | Q23: =IFERROR(VLOOKUP(P23,'Listas Activos'!$B$38:$C$42,2,0),0) -> 3 | R23: =IF(AND(M23>0,O23>0,Q23>0,U23="Si"),5,IF(OR(M23=0,O23=0,Q23=0),0,IF(AND(M23=1,O23=1,Q23=1),1,(IF(OR(AND(M23=5,O23=5),AND(O23=5,Q23=5),AND(M23=5,Q23=5),AND(M23=5,O23=5,Q23=5)),5,3))))) -> 3 | S23: =IFERROR(VLOOKUP(R23,'Listas Activos'!$B$4:$C$7,2,0),"-") -> Medio | U23: No
A24: 17 | B24: OIDT | C24: Gestión de Tecnologías de la Información | D24: zabix | E24: Muestra el monitoreo a la infraestructura del INM en terminos de Servidores (windows) | F24: Actualizado | G24: OIDT | H24: Profesional Especializado Código 2028 Grado 18 | I24: Profesional Especializado Código 2028 Grado 18 | J24: Soporte | K24: SOFTWARE [SW] | L24: Pública = Baja | M24: =IFERROR(VLOOKUP(L24,'Listas Activos'!$B$24:$C$28,2,0),0) -> 1 | N24: Medio | O24: =IFERROR(VLOOKUP(N24,'Listas Activos'!$B$31:$C$35,2,0),0) -> 3 | P24: Medio | Q24: =IFERROR(VLOOKUP(P24,'Listas Activos'!$B$38:$C$42,2,0),0) -> 3 | R24: =IF(AND(M24>0,O24>0,Q24>0,U24="Si"),5,IF(OR(M24=0,O24=0,Q24=0),0,IF(AND(M24=1,O24=1,Q24=1),1,(IF(OR(AND(M24=5,O24=5),AND(O24=5,Q24=5),AND(M24=5,Q24=5),AND(M24=5,O24=5,Q24=5)),5,3))))) -> 3 | S24: =IFERROR(VLOOKUP(R24,'Listas Activos'!$B$4:$C$7,2,0),"-") -> Medio | U24: No
A25: 18 | B25: OIDT | C25: Gestión de Tecnologías de la Información | D25: Módulo MinCIT | E25: Permitir el registro de elementos de inventario de la entidad | F25: Actualizado | G25: OIDT | H25: Profesional Especializado Código 2028 Grado 18 | I25: Profesional Especializado Código 2028 Grado 18 | J25: Soporte | K25: SOFTWARE [SW] | L25: Pública = Baja | M25: =IFERROR(VLOOKUP(L25,'Listas Activos'!$B$24:$C$28,2,0),0) -> 1 | N25: Medio | O25: =IFERROR(VLOOKUP(N25,'Listas Activos'!$B$31:$C$35,2,0),0) -> 3 | P25: Bajo | Q25: =IFERROR(VLOOKUP(P25,'Listas Activos'!$B$38:$C$42,2,0),0) -> 1 | R25: =IF(AND(M25>0,O25>0,Q25>0,U25="Si"),5,IF(OR(M25=0,O25=0,Q25=0),0,IF(AND(M25=1,O25=1,Q25=1),1,(IF(OR(AND(M25=5,O25=5),AND(O25=5,Q25=5),AND(M25=5,Q25=5),AND(M25=5,O25=5,Q25=5)),5,3))))) -> 3 | S25: =IFERROR(VLOOKUP(R25,'Listas Activos'!$B$4:$C$7,2,0),"-") -> Medio | U25: No
A26: 19 | B26: OIDT | C26: Gestión de Tecnologías de la Información | D26: Office 365 | E26: Servicio en la nube de correo electrónico, chat y ofimatica y almacenamiento. | F26: Actualizado | G26: Toda la entidad | H26: Profesional Especializado Código 2028 Grado 18 | I26: Profesional Especializado Código 2028 Grado 18 | J26: Soporte | K26: SERVICIOS [SI] | L26: Clasificada = Alta | M26: =IFERROR(VLOOKUP(L26,'Listas Activos'!$B$24:$C$28,2,0),0) -> 5 | N26: Alto | O26: =IFERROR(VLOOKUP(N26,'Listas Activos'!$B$31:$C$35,2,0),0) -> 5 | P26: Alto | Q26: =IFERROR(VLOOKUP(P26,'Listas Activos'!$B$38:$C$42,2,0),0) -> 5 | R26: =IF(AND(M26>0,O26>0,Q26>0,U26="Si"),5,IF(OR(M26=0,O26=0,Q26=0),0,IF(AND(M26=1,O26=1,Q26=1),1,(IF(OR(AND(M26=5,O26=5),AND(O26=5,Q26=5),AND(M26=5,Q26=5),AND(M26=5,O26=5,Q26=5)),5,3))))) -> 5 | S26: =IFERROR(VLOOKUP(R26,'Listas Activos'!$B$4:$C$7,2,0),"-") -> Alto | U26: No
A27: 20 | B27: OIDT | C27: Gestión de Tecnologías de la Información | D27: Antimalware | E27: Software de antivirus | F27: Actualizado | G27: Toda la entidad | H27: Profesional Especializado Código 2028 Grado 14 | I27: Profesional Especializado Código 2028 Grado 14 | J27: Soporte | K27: SOFTWARE [SW] | L27: Pública = Baja | M27: =IFERROR(VLOOKUP(L27,'Listas Activos'!$B$24:$C$28,2,0),0) -> 1 | N27: Alto | O27: =IFERROR(VLOOKUP(N27,'Listas Activos'!$B$31:$C$35,2,0),0) -> 5 | P27: Alto | Q27: =IFERROR(VLOOKUP(P27,'Listas Activos'!$B$38:$C$42,2,0),0) -> 5 | R27: =IF(AND(M27>0,O27>0,Q27>0,U27="Si"),5,IF(OR(M27=0,O27=0,Q27=0),0,IF(AND(M27=1,O27=1,Q27=1),1,(IF(OR(AND(M27=5,O27=5),AND(O27=5,Q27=5),AND(M27=5,Q27=5),AND(M27=5,O27=5,Q27=5)),5,3))))) -> 5 | S27: =IFERROR(VLOOKUP(R27,'Listas Activos'!$B$4:$C$7,2,0),"-") -> Alto | U27: No
A28: 21 | B28: OIDT | C28: Gestión de Tecnologías de la Información | D28: Planta Telefónica | E28: Planta Telefónica | F28: Actualizado | G28: Toda la entidad | H28: Profesional Universitario Código 2044 Grado 03 | I28: Profesional Universitario Código 2044 Grado 03 | J28: Soporte | K28: HARDWARE [HW] | L28: Uso Interno = Medio | M28: =IFERROR(VLOOKUP(L28,'Listas Activos'!$B$24:$C$28,2,0),0) -> 3 | N28: Medio | O28: =IFERROR(VLOOKUP(N28,'Listas Activos'!$B$31:$C$35,2,0),0) -> 3 | P28: Alto | Q28: =IFERROR(VLOOKUP(P28,'Listas Activos'!$B$38:$C$42,2,0),0) -> 5 | R28: =IF(AND(M28>0,O28>0,Q28>0,U28="Si"),5,IF(OR(M28=0,O28=0,Q28=0),0,IF(AND(M28=1,O28=1,Q28=1),1,(IF(OR(AND(M28=5,O28=5),AND(O28=5,Q28=5),AND(M28=5,Q28=5),AND(M28=5,O28=5,Q28=5)),5,3))))) -> 3 | S28: =IFERROR(VLOOKUP(R28,'Listas Activos'!$B$4:$C$7,2,0),"-") -> Medio | U28: No | AI28: =IF(ISERROR(VLOOKUP(AG28,'Listas Ley Transparencia'!$H$3:$M$17,2,0)),"",VLOOKUP(AG28,'Listas Ley Transparencia'!$H$3:$M$17,2,0)) | AJ28: =IF(ISERROR(VLOOKUP(AG28,'Listas Ley Transparencia'!$H$3:$M$17,3,0)),"",VLOOKUP(AG28,'Listas Ley Transparencia'!$H$3:$M$17,3,0)) | AK28: =IF(ISERROR(VLOOKUP(AG28,'Listas Ley Transparencia'!$H$3:$M$17,4,0)),"",VLOOKUP(AG28,'Listas Ley Transparencia'!$H$3:$M$17,4,0)) | AL28: =IF(ISERROR(VLOOKUP(AG28,'Listas Ley Transparencia'!$H$3:$M$17,6,0)),"",VLOOKUP(AG28,'Listas Ley Transparencia'!$H$3:$M$17,6,0))
A29: 22 | B29: OIDT | C29: Gestión de Tecnologías de la Información | D29: Página WEB | E29: Página web del INM | F29: Actualizado | G29: Colaboradores y clientes del INM. | H29: Profesional Especializado Código 2028 Grado 18 | I29: Profesional Especializado Código 2028 Grado 18 | J29: Soporte | K29: SERVICIOS [SI] | L29: Pública = Baja | M29: =IFERROR(VLOOKUP(L29,'Listas Activos'!$B$24:$C$28,2,0),0) -> 1 | N29: Alto | O29: =IFERROR(VLOOKUP(N29,'Listas Activos'!$B$31:$C$35,2,0),0) -> 5 | P29: Alto | Q29: =IFERROR(VLOOKUP(P29,'Listas Activos'!$B$38:$C$42,2,0),0) -> 5 | R29: =IF(AND(M29>0,O29>0,Q29>0,U29="Si"),5,IF(OR(M29=0,O29=0,Q29=0),0,IF(AND(M29=1,O29=1,Q29=1),1,(IF(OR(AND(M29=5,O29=5),AND(O29=5,Q29=5),AND(M29=5,Q29=5),AND(M29=5,O29=5,Q29=5)),5,3))))) -> 5 | S29: =IFERROR(VLOOKUP(R29,'Listas Activos'!$B$4:$C$7,2,0),"-") -> Alto | U29: No
A30: 23 | B30: OIDT | C30: Gestión de Tecnologías de la Información | D30: SW1-PISO1-OFIC | E30: Switches de telecomunicaciones. Piso 1 | F30: Actualizado | G30: Toda la entidad | H30: Profesional Especializado Código 2028 Grado 14 | I30: Profesional Especializado Código 2028 Grado 14 | J30: Soporte | K30: HARDWARE [HW] | L30: Uso Interno = Medio | M30: =IFERROR(VLOOKUP(L30,'Listas Activos'!$B$24:$C$28,2,0),0) -> 3 | N30: Alto | O30: =IFERROR(VLOOKUP(N30,'Listas Activos'!$B$31:$C$35,2,0),0) -> 5 | P30: Alto | Q30: =IFERROR(VLOOKUP(P30,'Listas Activos'!$B$38:$C$42,2,0),0) -> 5 | R30: =IF(AND(M30>0,O30>0,Q30>0,U30="Si"),5,IF(OR(M30=0,O30=0,Q30=0),0,IF(AND(M30=1,O30=1,Q30=1),1,(IF(OR(AND(M30=5,O30=5),AND(O30=5,Q30=5),AND(M30=5,Q30=5),AND(M30=5,O30=5,Q30=5)),5,3))))) -> 5 | S30: =IFERROR(VLOOKUP(R30,'Listas Activos'!$B$4:$C$7,2,0),"-") -> Alto | U30: No | AI30: =IF(ISERROR(VLOOKUP(AG30,'Listas Ley Transparencia'!$H$3:$M$17,2,0)),"",VLOOKUP(AG30,'Listas Ley Transparencia'!$H$3:$M$17,2,0)) | AJ30: =IF(ISERROR(VLOOKUP(AG30,'Listas Ley Transparencia'!$H$3:$M$17,3,0)),"",VLOOKUP(AG30,'Listas Ley Transparencia'!$H$3:$M$17,3,0)) | AK30: =IF(ISERROR(VLOOKUP(AG30,'Listas Ley Transparencia'!$H$3:$M$17,4,0)),"",VLOOKUP(AG30,'Listas Ley Transparencia'!$H$3:$M$17,4,0)) | AL30: =IF(ISERROR(VLOOKUP(AG30,'Listas Ley Transparencia'!$H$3:$M$17,6,0)),"",VLOOKUP(AG30,'Listas Ley Transparencia'!$H$3:$M$17,6,0))
A31: 24 | B31: OIDT | C31: Gestión de Tecnologías de la Información | D31: SW2-PISO1-OFIC | E31: Switches de telecomunicaciones. Piso 1 | F31: Actualizado | G31: Toda la entidad | H31: Profesional Especializado Código 2028 Grado 14 | I31: Profesional Especializado Código 2028 Grado 14 | J31: Soporte | K31: HARDWARE [HW] | L31: Uso Interno = Medio | M31: =IFERROR(VLOOKUP(L31,'Listas Activos'!$B$24:$C$28,2,0),0) -> 3 | N31: Alto | O31: =IFERROR(VLOOKUP(N31,'Listas Activos'!$B$31:$C$35,2,0),0) -> 5 | P31: Alto | Q31: =IFERROR(VLOOKUP(P31,'Listas Activos'!$B$38:$C$42,2,0),0) -> 5 | R31: =IF(AND(M31>0,O31>0,Q31>0,U31="Si"),5,IF(OR(M31=0,O31=0,Q31=0),0,IF(AND(M31=1,O31=1,Q31=1),1,(IF(OR(AND(M31=5,O31=5),AND(O31=5,Q31=5),AND(M31=5,Q31=5),AND(M31=5,O31=5,Q31=5)),5,3))))) -> 5 | S31: =IFERROR(VLOOKUP(R31,'Listas Activos'!$B$4:$C$7,2,0),"-") -> Alto | U31: No | AI31: =IF(ISERROR(VLOOKUP(AG31,'Listas Ley Transparencia'!$H$3:$M$17,2,0)),"",VLOOKUP(AG31,'Listas Ley Transparencia'!$H$3:$M$17,2,0)) | AJ31: =IF(ISERROR(VLOOKUP(AG31,'Listas Ley Transparencia'!$H$3:$M$17,3,0)),"",VLOOKUP(AG31,'Listas Ley Transparencia'!$H$3:$M$17,3,0)) | AK31: =IF(ISERROR(VLOOKUP(AG31,'Listas Ley Transparencia'!$H$3:$M$17,4,0)),"",VLOOKUP(AG31,'Listas Ley Transparencia'!$H$3:$M$17,4,0)) | AL31: =IF(ISERROR(VLOOKUP(AG31,'Listas Ley Transparencia'!$H$3:$M$17,6,0)),"",VLOOKUP(AG31,'Listas Ley Transparencia'!$H$3:$M$17,6,0))
A32: 25 | B32: OIDT | C32: Gestión de Tecnologías de la Información | D32: SW3-PISO1-OFIC | E32: Switches de telecomunicaciones. Piso 1 | F32: Actualizado | G32: Toda la entidad | H32: Profesional Especializado Código 2028 Grado 14 | I32: Profesional Especializado Código 2028 Grado 14 | J32: Soporte | K32: HARDWARE [HW] | L32: Uso Interno = Medio | M32: =IFERROR(VLOOKUP(L32,'Listas Activos'!$B$24:$C$28,2,0),0) -> 3 | N32: Alto | O32: =IFERROR(VLOOKUP(N32,'Listas Activos'!$B$31:$C$35,2,0),0) -> 5 | P32: Alto | Q32: =IFERROR(VLOOKUP(P32,'Listas Activos'!$B$38:$C$42,2,0),0) -> 5 | R32: =IF(AND(M32>0,O32>0,Q32>0,U32="Si"),5,IF(OR(M32=0,O32=0,Q32=0),0,IF(AND(M32=1,O32=1,Q32=1),1,(IF(OR(AND(M32=5,O32=5),AND(O32=5,Q32=5),AND(M32=5,Q32=5),AND(M32=5,O32=5,Q32=5)),5,3))))) -> 5 | S32: =IFERROR(VLOOKUP(R32,'Listas Activos'!$B$4:$C$7,2,0),"-") -> Alto | U32: No | AI32: =IF(ISERROR(VLOOKUP(AG32,'Listas Ley Transparencia'!$H$3:$M$17,2,0)),"",VLOOKUP(AG32,'Listas Ley Transparencia'!$H$3:$M$17,2,0)) | AJ32: =IF(ISERROR(VLOOKUP(AG32,'Listas Ley Transparencia'!$H$3:$M$17,3,0)),"",VLOOKUP(AG32,'Listas Ley Transparencia'!$H$3:$M$17,3,0)) | AK32: =IF(ISERROR(VLOOKUP(AG32,'Listas Ley Transparencia'!$H$3:$M$17,4,0)),"",VLOOKUP(AG32,'Listas Ley Transparencia'!$H$3:$M$17,4,0)) | AL32: =IF(ISERROR(VLOOKUP(AG32,'Listas Ley Transparencia'!$H$3:$M$17,6,0)),"",VLOOKUP(AG32,'Listas Ley Transparencia'!$H$3:$M$17,6,0))
A33: 26 | B33: OIDT | C33: Gestión de Tecnologías de la Información | D33: SW1-PISO2-OFIC | E33: Switches de telecomunicaciones. Piso 2 | F33: Actualizado | G33: Toda la entidad | H33: Profesional Especializado Código 2028 Grado 14 | I33: Profesional Especializado Código 2028 Grado 14 | J33: Soporte | K33: HARDWARE [HW] | L33: Uso Interno = Medio | M33: =IFERROR(VLOOKUP(L33,'Listas Activos'!$B$24:$C$28,2,0),0) -> 3 | N33: Alto | O33: =IFERROR(VLOOKUP(N33,'Listas Activos'!$B$31:$C$35,2,0),0) -> 5 | P33: Alto | Q33: =IFERROR(VLOOKUP(P33,'Listas Activos'!$B$38:$C$42,2,0),0) -> 5 | R33: =IF(AND(M33>0,O33>0,Q33>0,U33="Si"),5,IF(OR(M33=0,O33=0,Q33=0),0,IF(AND(M33=1,O33=1,Q33=1),1,(IF(OR(AND(M33=5,O33=5),AND(O33=5,Q33=5),AND(M33=5,Q33=5),AND(M33=5,O33=5,Q33=5)),5,3))))) -> 5 | S33: =IFERROR(VLOOKUP(R33,'Listas Activos'!$B$4:$C$7,2,0),"-") -> Alto | U33: No | AI33: =IF(ISERROR(VLOOKUP(AG33,'Listas Ley Transparencia'!$H$3:$M$17,2,0)),"",VLOOKUP(AG33,'Listas Ley Transparencia'!$H$3:$M$17,2,0)) | AJ33: =IF(ISERROR(VLOOKUP(AG33,'Listas Ley Transparencia'!$H$3:$M$17,3,0)),"",VLOOKUP(AG33,'Listas Ley Transparencia'!$H$3:$M$17,3,0)) | AK33: =IF(ISERROR(VLOOKUP(AG33,'Listas Ley Transparencia'!$H$3:$M$17,4,0)),"",VLOOKUP(AG33,'Listas Ley Transparencia'!$H$3:$M$17,4,0)) | AL33: =IF(ISERROR(VLOOKUP(AG33,'Listas Ley Transparencia'!$H$3:$M$17,6,0)),"",VLOOKUP(AG33,'Listas Ley Transparencia'!$H$3:$M$17,6,0))
A34: 27 | B34: OIDT | C34: Gestión de Tecnologías de la Información | D34: SW2-PISO2-OFIC | E34: Switches de telecomunicaciones. Piso 2 | F34: Actualizado | G34: Toda la entidad | H34: Profesional Especializado Código 2028 Grado 14 | I34: Profesional Especializado Código 2028 Grado 14 | J34: Soporte | K34: HARDWARE [HW] | L34: Uso Interno = Medio | M34: =IFERROR(VLOOKUP(L34,'Listas Activos'!$B$24:$C$28,2,0),0) -> 3 | N34: Alto | O34: =IFERROR(VLOOKUP(N34,'Listas Activos'!$B$31:$C$35,2,0),0) -> 5 | P34: Alto | Q34: =IFERROR(VLOOKUP(P34,'Listas Activos'!$B$38:$C$42,2,0),0) -> 5 | R34: =IF(AND(M34>0,O34>0,Q34>0,U34="Si"),5,IF(OR(M34=0,O34=0,Q34=0),0,IF(AND(M34=1,O34=1,Q34=1),1,(IF(OR(AND(M34=5,O34=5),AND(O34=5,Q34=5),AND(M34=5,Q34=5),AND(M34=5,O34=5,Q34=5)),5,3))))) -> 5 | S34: =IFERROR(VLOOKUP(R34,'Listas Activos'!$B$4:$C$7,2,0),"-") -> Alto | U34: No | AI34: =IF(ISERROR(VLOOKUP(AG34,'Listas Ley Transparencia'!$H$3:$M$17,2,0)),"",VLOOKUP(AG34,'Listas Ley Transparencia'!$H$3:$M$17,2,0)) | AJ34: =IF(ISERROR(VLOOKUP(AG34,'Listas Ley Transparencia'!$H$3:$M$17,3,0)),"",VLOOKUP(AG34,'Listas Ley Transparencia'!$H$3:$M$17,3,0)) | AK34: =IF(ISERROR(VLOOKUP(AG34,'Listas Ley Transparencia'!$H$3:$M$17,4,0)),"",VLOOKUP(AG34,'Listas Ley Transparencia'!$H$3:$M$17,4,0)) | AL34: =IF(ISERROR(VLOOKUP(AG34,'Listas Ley Transparencia'!$H$3:$M$17,6,0)),"",VLOOKUP(AG34,'Listas Ley Transparencia'!$H$3:$M$17,6,0))
A35: 28 | B35: OIDT | C35: Gestión de Tecnologías de la Información | D35: SW3-PISO2-OFIC | E35: Switches de telecomunicaciones. Piso 2 | F35: Actualizado | G35: Toda la entidad | H35: Profesional Especializado Código 2028 Grado 14 | I35: Profesional Especializado Código 2028 Grado 14 | J35: Soporte | K35: HARDWARE [HW] | L35: Uso Interno = Medio | M35: =IFERROR(VLOOKUP(L35,'Listas Activos'!$B$24:$C$28,2,0),0) -> 3 | N35: Alto | O35: =IFERROR(VLOOKUP(N35,'Listas Activos'!$B$31:$C$35,2,0),0) -> 5 | P35: Alto | Q35: =IFERROR(VLOOKUP(P35,'Listas Activos'!$B$38:$C$42,2,0),0) -> 5 | R35: =IF(AND(M35>0,O35>0,Q35>0,U35="Si"),5,IF(OR(M35=0,O35=0,Q35=0),0,IF(AND(M35=1,O35=1,Q35=1),1,(IF(OR(AND(M35=5,O35=5),AND(O35=5,Q35=5),AND(M35=5,Q35=5),AND(M35=5,O35=5,Q35=5)),5,3))))) -> 5 | S35: =IFERROR(VLOOKUP(R35,'Listas Activos'!$B$4:$C$7,2,0),"-") -> Alto | U35: No | AI35: =IF(ISERROR(VLOOKUP(AG35,'Listas Ley Transparencia'!$H$3:$M$17,2,0)),"",VLOOKUP(AG35,'Listas Ley Transparencia'!$H$3:$M$17,2,0)) | AJ35: =IF(ISERROR(VLOOKUP(AG35,'Listas Ley Transparencia'!$H$3:$M$17,3,0)),"",VLOOKUP(AG35,'Listas Ley Transparencia'!$H$3:$M$17,3,0)) | AK35: =IF(ISERROR(VLOOKUP(AG35,'Listas Ley Transparencia'!$H$3:$M$17,4,0)),"",VLOOKUP(AG35,'Listas Ley Transparencia'!$H$3:$M$17,4,0)) | AL35: =IF(ISERROR(VLOOKUP(AG35,'Listas Ley Transparencia'!$H$3:$M$17,6,0)),"",VLOOKUP(AG35,'Listas Ley Transparencia'!$H$3:$M$17,6,0))
A36: 29 | B36: OIDT | C36: Gestión de Tecnologías de la Información | D36: SW1-PISO2-LAB | E36: Switches de telecomunicaciones. Piso 2 | F36: Actualizado | G36: Toda la entidad | H36: Profesional Especializado Código 2028 Grado 14 | I36: Profesional Especializado Código 2028 Grado 14 | J36: Soporte | K36: HARDWARE [HW] | L36: Uso Interno = Medio | M36: =IFERROR(VLOOKUP(L36,'Listas Activos'!$B$24:$C$28,2,0),0) -> 3 | N36: Alto | O36: =IFERROR(VLOOKUP(N36,'Listas Activos'!$B$31:$C$35,2,0),0) -> 5 | P36: Alto | Q36: =IFERROR(VLOOKUP(P36,'Listas Activos'!$B$38:$C$42,2,0),0) -> 5 | R36: =IF(AND(M36>0,O36>0,Q36>0,U36="Si"),5,IF(OR(M36=0,O36=0,Q36=0),0,IF(AND(M36=1,O36=1,Q36=1),1,(IF(OR(AND(M36=5,O36=5),AND(O36=5,Q36=5),AND(M36=5,Q36=5),AND(M36=5,O36=5,Q36=5)),5,3))))) -> 5 | S36: =IFERROR(VLOOKUP(R36,'Listas Activos'!$B$4:$C$7,2,0),"-") -> Alto | U36: No | AI36: =IF(ISERROR(VLOOKUP(AG36,'Listas Ley Transparencia'!$H$3:$M$17,2,0)),"",VLOOKUP(AG36,'Listas Ley Transparencia'!$H$3:$M$17,2,0)) | AJ36: =IF(ISERROR(VLOOKUP(AG36,'Listas Ley Transparencia'!$H$3:$M$17,3,0)),"",VLOOKUP(AG36,'Listas Ley Transparencia'!$H$3:$M$17,3,0)) | AK36: =IF(ISERROR(VLOOKUP(AG36,'Listas Ley Transparencia'!$H$3:$M$17,4,0)),"",VLOOKUP(AG36,'Listas Ley Transparencia'!$H$3:$M$17,4,0)) | AL36: =IF(ISERROR(VLOOKUP(AG36,'Listas Ley Transparencia'!$H$3:$M$17,6,0)),"",VLOOKUP(AG36,'Listas Ley Transparencia'!$H$3:$M$17,6,0))
A37: 30 | B37: OIDT | C37: Gestión de Tecnologías de la Información | D37: SW1-PISO3-OFIC | E37: Switches de telecomunicaciones. Piso 3 | F37: Actualizado | G37: Toda la entidad | H37: Profesional Especializado Código 2028 Grado 14 | I37: Profesional Especializado Código 2028 Grado 14 | J37: Soporte | K37: HARDWARE [HW] | L37: Uso Interno = Medio | M37: =IFERROR(VLOOKUP(L37,'Listas Activos'!$B$24:$C$28,2,0),0) -> 3 | N37: Alto | O37: =IFERROR(VLOOKUP(N37,'Listas Activos'!$B$31:$C$35,2,0),0) -> 5 | P37: Alto | Q37: =IFERROR(VLOOKUP(P37,'Listas Activos'!$B$38:$C$42,2,0),0) -> 5 | R37: =IF(AND(M37>0,O37>0,Q37>0,U37="Si"),5,IF(OR(M37=0,O37=0,Q37=0),0,IF(AND(M37=1,O37=1,Q37=1),1,(IF(OR(AND(M37=5,O37=5),AND(O37=5,Q37=5),AND(M37=5,Q37=5),AND(M37=5,O37=5,Q37=5)),5,3))))) -> 5 | S37: =IFERROR(VLOOKUP(R37,'Listas Activos'!$B$4:$C$7,2,0),"-") -> Alto | U37: No | AI37: =IF(ISERROR(VLOOKUP(AG37,'Listas Ley Transparencia'!$H$3:$M$17,2,0)),"",VLOOKUP(AG37,'Listas Ley Transparencia'!$H$3:$M$17,2,0)) | AJ37: =IF(ISERROR(VLOOKUP(AG37,'Listas Ley Transparencia'!$H$3:$M$17,3,0)),"",VLOOKUP(AG37,'Listas Ley Transparencia'!$H$3:$M$17,3,0)) | AK37: =IF(ISERROR(VLOOKUP(AG37,'Listas Ley Transparencia'!$H$3:$M$17,4,0)),"",VLOOKUP(AG37,'Listas Ley Transparencia'!$H$3:$M$17,4,0)) | AL37: =IF(ISERROR(VLOOKUP(AG37,'Listas Ley Transparencia'!$H$3:$M$17,6,0)),"",VLOOKUP(AG37,'Listas Ley Transparencia'!$H$3:$M$17,6,0))
A38: 31 | B38: OIDT | C38: Gestión de Tecnologías de la Información | D38: SW2-PISO3-OFIC | E38: Switches de telecomunicaciones. Piso 3 | F38: Actualizado | G38: Toda la entidad | H38: Profesional Especializado Código 2028 Grado 14 | I38: Profesional Especializado Código 2028 Grado 14 | J38: Soporte | K38: HARDWARE [HW] | L38: Uso Interno = Medio | M38: =IFERROR(VLOOKUP(L38,'Listas Activos'!$B$24:$C$28,2,0),0) -> 3 | N38: Alto | O38: =IFERROR(VLOOKUP(N38,'Listas Activos'!$B$31:$C$35,2,0),0) -> 5 | P38: Alto | Q38: =IFERROR(VLOOKUP(P38,'Listas Activos'!$B$38:$C$42,2,0),0) -> 5 | R38: =IF(AND(M38>0,O38>0,Q38>0,U38="Si"),5,IF(OR(M38=0,O38=0,Q38=0),0,IF(AND(M38=1,O38=1,Q38=1),1,(IF(OR(AND(M38=5,O38=5),AND(O38=5,Q38=5),AND(M38=5,Q38=5),AND(M38=5,O38=5,Q38=5)),5,3))))) -> 5 | S38: =IFERROR(VLOOKUP(R38,'Listas Activos'!$B$4:$C$7,2,0),"-") -> Alto | U38: No | AI38: =IF(ISERROR(VLOOKUP(AG38,'Listas Ley Transparencia'!$H$3:$M$17,2,0)),"",VLOOKUP(AG38,'Listas Ley Transparencia'!$H$3:$M$17,2,0)) | AJ38: =IF(ISERROR(VLOOKUP(AG38,'Listas Ley Transparencia'!$H$3:$M$17,3,0)),"",VLOOKUP(AG38,'Listas Ley Transparencia'!$H$3:$M$17,3,0)) | AK38: =IF(ISERROR(VLOOKUP(AG38,'Listas Ley Transparencia'!$H$3:$M$17,4,0)),"",VLOOKUP(AG38,'Listas Ley Transparencia'!$H$3:$M$17,4,0)) | AL38: =IF(ISERROR(VLOOKUP(AG38,'Listas Ley Transparencia'!$H$3:$M$17,6,0)),"",VLOOKUP(AG38,'Listas Ley Transparencia'!$H$3:$M$17,6,0))
A39: 32 | B39: OIDT | C39: Gestión de Tecnologías de la Información | D39: SW1-PISO3-LAB | E39: Switches de telecomunicaciones. Piso 3 | F39: Actualizado | G39: Toda la entidad | H39: Profesional Especializado Código 2028 Grado 14 | I39: Profesional Especializado Código 2028 Grado 14 | J39: Soporte | K39: HARDWARE [HW] | L39: Uso Interno = Medio | M39: =IFERROR(VLOOKUP(L39,'Listas Activos'!$B$24:$C$28,2,0),0) -> 3 | N39: Alto | O39: =IFERROR(VLOOKUP(N39,'Listas Activos'!$B$31:$C$35,2,0),0) -> 5 | P39: Alto | Q39: =IFERROR(VLOOKUP(P39,'Listas Activos'!$B$38:$C$42,2,0),0) -> 5 | R39: =IF(AND(M39>0,O39>0,Q39>0,U39="Si"),5,IF(OR(M39=0,O39=0,Q39=0),0,IF(AND(M39=1,O39=1,Q39=1),1,(IF(OR(AND(M39=5,O39=5),AND(O39=5,Q39=5),AND(M39=5,Q39=5),AND(M39=5,O39=5,Q39=5)),5,3))))) -> 5 | S39: =IFERROR(VLOOKUP(R39,'Listas Activos'!$B$4:$C$7,2,0),"-") -> Alto | U39: No | AI39: =IF(ISERROR(VLOOKUP(AG39,'Listas Ley Transparencia'!$H$3:$M$17,2,0)),"",VLOOKUP(AG39,'Listas Ley Transparencia'!$H$3:$M$17,2,0)) | AJ39: =IF(ISERROR(VLOOKUP(AG39,'Listas Ley Transparencia'!$H$3:$M$17,3,0)),"",VLOOKUP(AG39,'Listas Ley Transparencia'!$H$3:$M$17,3,0)) | AK39: =IF(ISERROR(VLOOKUP(AG39,'Listas Ley Transparencia'!$H$3:$M$17,4,0)),"",VLOOKUP(AG39,'Listas Ley Transparencia'!$H$3:$M$17,4,0)) | AL39: =IF(ISERROR(VLOOKUP(AG39,'Listas Ley Transparencia'!$H$3:$M$17,6,0)),"",VLOOKUP(AG39,'Listas Ley Transparencia'!$H$3:$M$17,6,0))
A40: 33 | B40: OIDT | C40: Gestión de Tecnologías de la Información | D40: SW2-PISO3-LAB | E40: Switches de telecomunicaciones. Piso 3 | F40: Actualizado | G40: Toda la entidad | H40: Profesional Especializado Código 2028 Grado 14 | I40: Profesional Especializado Código 2028 Grado 14 | J40: Soporte | K40: HARDWARE [HW] | L40: Uso Interno = Medio | M40: =IFERROR(VLOOKUP(L40,'Listas Activos'!$B$24:$C$28,2,0),0) -> 3 | N40: Alto | O40: =IFERROR(VLOOKUP(N40,'Listas Activos'!$B$31:$C$35,2,0),0) -> 5 | P40: Alto | Q40: =IFERROR(VLOOKUP(P40,'Listas Activos'!$B$38:$C$42,2,0),0) -> 5 | R40: =IF(AND(M40>0,O40>0,Q40>0,U40="Si"),5,IF(OR(M40=0,O40=0,Q40=0),0,IF(AND(M40=1,O40=1,Q40=1),1,(IF(OR(AND(M40=5,O40=5),AND(O40=5,Q40=5),AND(M40=5,Q40=5),AND(M40=5,O40=5,Q40=5)),5,3))))) -> 5 | S40: =IFERROR(VLOOKUP(R40,'Listas Activos'!$B$4:$C$7,2,0),"-") -> Alto | U40: No | AI40: =IF(ISERROR(VLOOKUP(AG40,'Listas Ley Transparencia'!$H$3:$M$17,2,0)),"",VLOOKUP(AG40,'Listas Ley Transparencia'!$H$3:$M$17,2,0)) | AJ40: =IF(ISERROR(VLOOKUP(AG40,'Listas Ley Transparencia'!$H$3:$M$17,3,0)),"",VLOOKUP(AG40,'Listas Ley Transparencia'!$H$3:$M$17,3,0)) | AK40: =IF(ISERROR(VLOOKUP(AG40,'Listas Ley Transparencia'!$H$3:$M$17,4,0)),"",VLOOKUP(AG40,'Listas Ley Transparencia'!$H$3:$M$17,4,0)) | AL40: =IF(ISERROR(VLOOKUP(AG40,'Listas Ley Transparencia'!$H$3:$M$17,6,0)),"",VLOOKUP(AG40,'Listas Ley Transparencia'!$H$3:$M$17,6,0))
A41: 34 | B41: OIDT | C41: Gestión de Tecnologías de la Información | D41: SW1-PISO3-LAB-HLC | E41: Switches de telecomunicaciones. Piso 3 | F41: Actualizado | G41: Toda la entidad | H41: Profesional Especializado Código 2028 Grado 14 | I41: Profesional Especializado Código 2028 Grado 14 | J41: Soporte | K41: HARDWARE [HW] | L41: Uso Interno = Medio | M41: =IFERROR(VLOOKUP(L41,'Listas Activos'!$B$24:$C$28,2,0),0) -> 3 | N41: Alto | O41: =IFERROR(VLOOKUP(N41,'Listas Activos'!$B$31:$C$35,2,0),0) -> 5 | P41: Alto | Q41: =IFERROR(VLOOKUP(P41,'Listas Activos'!$B$38:$C$42,2,0),0) -> 5 | R41: =IF(AND(M41>0,O41>0,Q41>0,U41="Si"),5,IF(OR(M41=0,O41=0,Q41=0),0,IF(AND(M41=1,O41=1,Q41=1),1,(IF(OR(AND(M41=5,O41=5),AND(O41=5,Q41=5),AND(M41=5,Q41=5),AND(M41=5,O41=5,Q41=5)),5,3))))) -> 5 | S41: =IFERROR(VLOOKUP(R41,'Listas Activos'!$B$4:$C$7,2,0),"-") -> Alto | U41: No | AI41: =IF(ISERROR(VLOOKUP(AG41,'Listas Ley Transparencia'!$H$3:$M$17,2,0)),"",VLOOKUP(AG41,'Listas Ley Transparencia'!$H$3:$M$17,2,0)) | AJ41: =IF(ISERROR(VLOOKUP(AG41,'Listas Ley Transparencia'!$H$3:$M$17,3,0)),"",VLOOKUP(AG41,'Listas Ley Transparencia'!$H$3:$M$17,3,0)) | AK41: =IF(ISERROR(VLOOKUP(AG41,'Listas Ley Transparencia'!$H$3:$M$17,4,0)),"",VLOOKUP(AG41,'Listas Ley Transparencia'!$H$3:$M$17,4,0)) | AL41: =IF(ISERROR(VLOOKUP(AG41,'Listas Ley Transparencia'!$H$3:$M$17,6,0)),"",VLOOKUP(AG41,'Listas Ley Transparencia'!$H$3:$M$17,6,0))
...

Sheet Detalle Campos e Instructivo
B3: IDENTIFICACIÓN DE ACTIVOS DE INFORMACIÓN
B4: CAMPO | C4: DEFINICIÓN | D4: INSTRUCTIVO | E4: RESPONSABLE DE DILIGENCIAMIENTO
B5: ID. ACTIVO | C5: Permite realizar una asignación consecutiva de un identificador para cada activo que sea registrado como parte el inventario de activos de información. | D5: El campo es automático y no se diligencia | E5: Automático por herramienta
B6: ÁREA | D6: Registre el nombre del área al cual pertenece el activo de información. | E6: Líder de proceso / Colaborador designado
B7: PROCESO | C7: Permite registrar a cual de los procesos definidos en el Sistema Integrado de Gestión y Autocontrol pertenece el activo de información | D7: Registre el nombre del proceso al cual pertenece el activo de información. | E7: Líder de proceso / Colaborador designado
B8: NOMBRE DEL ACTIVO DE INFORMACIÓN | C8: Permite registrar el nombre a través del cual se puede hacer referencia al activo de información que este siendo identificado. | D8: Registre el nombre a través del cual se identifica el activo de información. | E8: Líder de proceso / Colaborador designado
B9: DESCRIPCIÓN DEL ACTIVO DE INFORMACIÓN | C9: Permite realizar el registro de una breve descripción o detalle que permite contextualizar o proporcionar más información sobre el activo de información. | D9: Realice una breve descripción que ayude a contextualiza el activo de información que está registrando. | E9: Líder de proceso / Colaborador designado
B10: ESTADO DEL ACTIVO | C10: Permite seleccionar el tipo de novedad que presenta el activo, puede ser: Actualizado , Nuevo o Histórico. | D10: Nuevo, si la novedad es que el activo ingresa al inventario. Actualizado, si se actualiza la información del activo. Histórico, si el activo pasa como información histórica por haber perido su vigencia. | E10: Líder de proceso / Colaborador designado
B11: USUARIO DEL ACTIVO | C11: Permite realizar el registro de quien(es) hace(n) uso del activo de información. Puede ser toda la entidad, direcciones, oficinas, grupos, cargos, roles, terceros, otras entidades, etc. | D11: Registre si es toda la entidad, grupos, direcciones, oficinas, terceros, u otras entidades. Puede separar cada uno de ellos usando el carácter "/" sin comillas | E11: Líder de proceso / Colaborador designado
B12: DUEÑO DEL ACTIVO | C12: Permite realizar el registro del cargo que actúa como dueño o decide sobre el activo de información. Es el cargo que puede definir controles, lo modifican, crean, cambian, ajustan, eliminan o transforman el activo de información. | D12: En caso de que el activo pueda tener más de un dueño, asigen el cargo de mayor nivel, según planta de cargos. | E12: Líder de proceso / Colaborador designado
B13: CUSTODIO DEL ACTIVO | C13: Permite realizar el registro del cargo que aplica los controles que define el propietario(s), en relación almacenamiento, respaldo, accesos, permisos, etc. | D13: En caso de que el activo pueda tener más de un custodio, asigen el cargo de mayor nivel, según planta de cargos. | E13: Líder de proceso / Colaborador designado
B14: CLASE DEL ACTIVO | C14: Establezca si el activo es primario o de soporte, dependiendo si participa en la misionalidad de la entidad o en los procesos de apoyo. | D14: Los activos primarios demandan mayor atención y cuidado, por estar directamente asociados a la misionalidad. | E14: Líder de proceso / Colaborador designado
B17: VALORACIÓN DEL ACTIVO
B18: CAMPO | C18: DEFINICIÓN | D18: INSTRUCTIVO | E18: RESPONSABLE DE DILIGENCIAMIENTO
B19: Tipo de Activo | C19: Permite seleccionar la categoria a la cual pertenece el activo de información que estamos identificando. Puede conocer las diferentes categorias y su descripción en la pestaña "Tipo de Activos" de la matriz. | D19: Seleccione la categoria a la cual pertenece el el tipo de activo que esta identificando. Ej. [Documentos, archivos, formatos, guias, instructivos, actas] -> Datos / Información; [Equipos de computo de escritorio, portatiles, servidores, routers, switch] -> Hardware / Infraestructura | E19: Líder de proceso / Colaborador designado
B20: CRITICIDAD RESPECTO A LA CONFIDENCIALIDAD | C20: Permite realizar la selección de la calificación asociada a la criticidad de la confidencialidad. Puede conocer los diferentes niveles de calificación y sus descripciones en la pestaña "Calificación Valoración-CONFIDENCIALIDAD". | D20: Seleccione la calificación de la confidencialidad del activo de información según los establecidos en la pestaña "Calificación Valoración" (Estas categorías estan alineadas a las establecidas en la Ley de Transparencia y Acceso a la Información Pública). | E20: Líder de proceso / Colaborador designado
B21: Valor | C21: Genera la valoración cuantitativa del activo de acuerdo a la escala establecida y la selección realizada en el campo anterior | D21: El campo se encuentra oculto, es automático y no se diligencia | E21: Cálculo automático
B22: CRITICIDAD RESPECTO A LA INTEGRIDAD | C22: Permite realizar la selección de la calificación asociada a la criticidad de la Integridad. Puede conocer los diferentes niveles de calificación y sus descripciones en la pestaña "Calificación Valoración-INTEGRIDAD". | D22: Realice la calificación de la integridad del activo de información según los criterios suministrados y disponibles. | E22: Líder de proceso / Colaborador designado
B23: Valor | C23: Genera la valoración cuantitativa del activo de acuerdo a la escala establecida y la selección realizada en el campo anterior | D23: El campo se encuentra oculto, es automático y no se diligencia | E23: Cálculo automático
B24: CRITICIDAD RESPECTO A LA DISPONIBILIDAD | C24: Permite realizar la selección de la calificación asociada a la criticidad de la Disponibilidad. Puede conocer los diferentes niveles de calificación y sus descripciones en la pestaña "Calificación Valoración-DISPONIBILIDAD". | D24: Realice la calificación de la disponibilidad del activo de información según los criterios suministrados y disponibles. | E24: Líder de proceso / Colaborador designado
B25: Valor | C25: Genera la valoración cuantitativa del activo de acuerdo a la escala establecida y la selección realizada en el campo anterior | D25: El campo se encuentra oculto, es automático y no se diligencia | E25: Cálculo automático
B26: Valor total del Activo | C26: Este campo se calcula de manera automática, de acuerdo con el valor cuantitativo de la confidencialidad, integridad y disponibilidad | D26: El campo se encuentra oculto, es automático y no se diligencia | E26: Cálculo automático
B27: Criticidad del Activo | C27: Genera el resultado del activo de acuerdo a la escala establecida y la selección realizada en el campo anterior | D27: El campo es automático y no se diligencia, la valoración de los activos se realiza teniendo en cuenta la Guia Gestión Clasificación de Activos de MinTIC (Guia Nro. 5) | E27: Cálculo automático
B28: OBSERVACIONES | C28: Permite realizar el registro de observaciones que se consideren necesarias con respecto al Activo de Información, puede anotarse también las razones por las cuales se realizaron las calificaciones, y qué se tuvo en cuenta para determinar las mismas. | D28: Registre observaciones adicionales sobre el activo de información. | E28: Líder de proceso / Colaborador designado
B30: PROTECCION DE DATOS
B31: CAMPO | C31: DEFINICIÓN | D31: INSTRUCTIVO | E31: RESPONSABLE DE DILIGENCIAMIENTO
B32: El activo almacena o solicita Datos personales | C32: Permite evaluar si el activo de información almacena o solicita datos personales. Ej. Datos de contacto, datos laborales, datos patrimoniales, datos académicos, entre otros. [Opciones disponibles] Si; No | D32: Seleccione si el activo almacena o solicita datos personales. Cuando un activo maneja datos personales esta parametro es tenido en cuenta para considerar el activo como crítico (Ver criticidad del activo). | E32: Líder de proceso / Colaborador designado
B33: Los datos almacenados o requeridos son públicos | C33: Permite evaluar si el activo de información almacena o solicita datos personales de tipo publico, es decir, datos personales que la Entidad o las Leyes ha determinado expresamente como públicos. Ej., correos laborales, nombre, cargos o roles, datos de contacto definidos como públicos, sentencias judiciales, documentos públicos, datos de gacetas o boletines, entre otros. [Opciones disponibles] Si; No | D33: Si seleccionó "Si" en el campo “El activo almacena o solicita Datos personales” este campo pasará de color gris a blanco con el fin de indicar que se ha habilitado y debe ser diligenciado. Si el campo se encuentra en blanco seleccione si los datos personales que almacena, solicita o recolecta son de tipo publico o no. Si el campo se encuentra en color gris omita el diligenciamiento de este campo. | E33: Líder de proceso / Colaborador designado
B34: Los datos almacenados o requeridos son Privados | C34: Permite evaluar si el activo de información almacena o solicita datos personales de tipo privado, es decir, datos personales que por su naturaleza son datos que solo le interesan al titular y no deberían ser conocidos por terceros. Ej. correo electrónico personal, teléfono, dirección de vivienda, datos laborales, nivel de escolaridad, sobre infracciones administrativas o penales, los datos administrados por algunas entidades como tributarias, financieras o de la seguridad social, fotografías, videos, y cualquier otro dato que referencien el estilo de vida de una persona. [Opciones disponibles] Si; No | D34: Si seleccionó "Si" en el campo “El activo almacena o solicita Datos personales” este campo pasará de color gris a blanco con el fin de indicar que se ha habilitado y debe ser diligenciado. Si el campo se encuentra en blanco seleccione si los datos personales que almacena, solicita o recolecta son de tipo privados o no. Si el campo se encuentra en color gris omita el diligenciamiento de este campo. | E34: Líder de proceso / Colaborador designado
B35: Los datos almacenados o requeridos son Semiprivados | C35: Permite evaluar si el activo de información almacena o solicita datos personales de tipo privados, es decir, datos personales que por su naturaleza son datos que le interesan tanto al dueño de los datos como a terceros. Ej. datos financiero y crediticio de actividad comercial o de servicios, datos de contacto personal, entre otros. [Opciones disponibles] Si; No | D35: Si seleccionó "Si" en el campo “El activo almacena o solicita Datos personales” este campo pasará de color gris a blanco con el fin de indicar que se ha habilitado y debe ser diligenciado. Si el campo se encuentra en blanco seleccione si los datos personales que almacena, solicita o recolecta son de tipo semiprivados o no. Si el campo se encuentra en color gris omita el diligenciamiento de este campo. | E35: Líder de proceso / Colaborador designado
B36: Los datos almacenados o requeridos son Sensibles | C36: Permite evaluar si el activo de información almacena o solicita datos personales de tipo Sensibles, es decir, tipos de datos que, de acuerdo a la Ley 1581 de protección de datos colombiana, se han clasificado como sensibles, son de especial protección o pueden someter a discriminación. Ej. origen étnico o racial, datos de salud, preferencia sexual, filiación política, religión, ideología, afiliación a sindicatos, organizaciones sociales, datos biométricos, de menores de edad, niños, niñas y adolescentes, entre otros. [Opciones disponibles] Si; No | D36: Si seleccionó "Si" en el campo “El activo almacena o solicita Datos personales” este campo pasará de color gris a blanco con el fin de indicar que se ha habilitado y debe ser diligenciado. Si el campo se encuentra en blanco seleccione si los datos personales que almacena, solicita o recolecta son de tipo sensible o no. Si el campo se encuentra en color gris omita el diligenciamiento de este campo. | E36: Líder de proceso / Colaborador designado
B38: LEY DE TRANSPARENCIA Y ACCESO A LA INFORMACIÓN
B39: CAMPO | C39: DEFINICIÓN | D39: INSTRUCTIVO | E39: RESPONSABLE DE DILIGENCIAMIENTO
B40: IDIOMA | C40: Permite establecer en que Idioma se encuentra o conserva la información del activo de información. [Opciones disponibles] Español; Inglés; Español - Ingles; Otro | D40: Seleccione en que idioma se encuentra o conserva la información de acuerdo con las opciones disponibles. Este campos solo se diligencia si la categoría seleccionada en el Tipo de Activo es "Datos / Información" o "Bases de datos". | E40: Líder de proceso / Colaborador designado
B41: MEDIO DE CONSERVACIÓN Y/O SOPORTE | C41: Permite establecer la manera en que conserva el activo de información. [Opciones disponibles] Análogo: si el documento de archivo - registro o activo de información se encuentra elaborado en soporte papel y cinta (video, casete, película, microfilm, entre otros). Electrónico: si el documento de archivo - registro o activo de información es recibido, almacenado y comunicado se encuentra en medios electrónicos, y permanece en estos medios durante su ciclo vital (Archivo General de la Nación. Acuerdo 027 de 2006). Híbrido Análogo Electrónico: si el documento se encuentra en estos dos tipos de formatos | D41: Seleccione el medio de conservación del activo de información de acuerdo a las opciones disponibles. Este campos solo se diligencia si la categoría seleccionada en el Tipo de Activo es "Datos / Información" o "Bases de datos". | E41: Líder de proceso / Colaborador designado
